BEGIN:VCALENDAR
VERSION:2.0
PRODID:-//ChamberMaster//Event Calendar 2.0//EN
METHOD:PUBLISH
X-PUBLISHED-TTL:P3D
REFRESH-INTERVAL:P3D
CALSCALE:GREGORIAN
BEGIN:VEVENT
DTSTART:20131205T173000Z
DTEND:20131205T190000Z
X-MICROSOFT-CDO-ALLDAYEVENT:FALSE
SUMMARY:Chamber Luncheon Series: December Christmas Luncheon
DESCRIPTION:Join us for our Special Christmas Luncheon. Fun Christmas activities\, live local music and a 50/50 draw in support of The Brandon Humane Society.
X-ALT-DESC;FMTTYPE=text/html:Join us&nbsp\;for our Special Christmas Luncheon. Fun Christmas activities\, live local music&nbsp\;and a 50/50 draw in support of The Brandon Humane Society.
LOCATION:Victoria Inn - Imperial Ballroom
UID:e.1595.59
SEQUENCE:3
DTSTAMP:20260421T134002Z
URL:https://dev.brandonchamber.ca/events/details/chamber-luncheon-series-december-christmas-luncheon-12-05-2013-59
END:VEVENT

END:VCALENDAR
