BEGIN:VCALENDAR
VERSION:2.0
PRODID:-//ChamberMaster//Event Calendar 2.0//EN
METHOD:PUBLISH
X-PUBLISHED-TTL:P3D
REFRESH-INTERVAL:P3D
CALSCALE:GREGORIAN
BEGIN:VEVENT
DTSTART:20140313T163000Z
DTEND:20140313T180000Z
X-MICROSOFT-CDO-ALLDAYEVENT:FALSE
SUMMARY:Chamber Luncheon Series: Champions of Agriculture
DESCRIPTION:Join us for the Champions of Agriculture Luncheon - Sponsored by CGA Manitoba. Kim McConnell\, founder of AdFarm\, an international agriculture-focused marketing and communications firm will be touching on:\n\n\n\n Why agriculture is important for farmers\, industry\, investors and youth\n\n\n\n Items related to a strong\, vibrant agriculture and rural economy.
X-ALT-DESC;FMTTYPE=text/html:Join us for the Champions of Agriculture Luncheon - Sponsored by CGA Manitoba. Kim McConnell\, founder of AdFarm\, an international agriculture-focused marketing and communications firm will be touching on:<br />\n<br />\n&gt\;Why agriculture is important for farmers\, industry\, investors and youth<br />\n<br />\n&gt\;Items related to a strong\, vibrant agriculture and rural economy.<br type="_moz" />\n
LOCATION:Royal Oak Inn & Suites - Regency Ballroom
UID:e.1595.76
SEQUENCE:3
DTSTAMP:20260421T095135Z
URL:https://dev.brandonchamber.ca/events/details/chamber-luncheon-series-champions-of-agriculture-03-13-2014-76
END:VEVENT

END:VCALENDAR
