BEGIN:VCALENDAR
VERSION:2.0
PRODID:-//ChamberMaster//Event Calendar 2.0//EN
METHOD:PUBLISH
X-PUBLISHED-TTL:P3D
REFRESH-INTERVAL:P3D
CALSCALE:GREGORIAN
BEGIN:VEVENT
DTSTART:20140416T170000Z
DTEND:20140416T180000Z
X-MICROSOFT-CDO-ALLDAYEVENT:FALSE
SUMMARY:Chamber Lunch and Learn - Manitoba Hydro Power Smart for Business
DESCRIPTION:Join us for a Chamber Lunch and Learn with Manitoba Hydro to help lower your energy bills by becoming more energy efficient.\n\n\n\nManitoba Hydro has a variety of Power Smart programs that offer rebates and financing for businesses. Learn how to save on lighting. insulation\, windows\, heating systems\, and more\, in a presentation by Manitoba Hydro's Sheila Shadlock.
X-ALT-DESC;FMTTYPE=text/html:Join us for a Chamber Lunch and Learn with Manitoba Hydro to help lower your energy bills by becoming more energy efficient.<br />\n<br />\nManitoba Hydro has a variety of Power Smart programs that offer rebates and financing for businesses. Learn how to save on lighting. insulation\, windows\, heating systems\, and more\, in a presentation by Manitoba Hydro&#39\;s Sheila Shadlock.<br />\n&nbsp\;
LOCATION:Brandon Chamber of Commerce 1043 Rosser Ave
UID:e.1595.90
SEQUENCE:3
DTSTAMP:20260421T082750Z
URL:https://dev.brandonchamber.ca/events/details/chamber-lunch-and-learn-manitoba-hydro-power-smart-for-business-04-16-2014-90
END:VEVENT

END:VCALENDAR
