BEGIN:VCALENDAR
VERSION:2.0
PRODID:-//ChamberMaster//Event Calendar 2.0//EN
METHOD:PUBLISH
X-PUBLISHED-TTL:P3D
REFRESH-INTERVAL:P3D
CALSCALE:GREGORIAN
BEGIN:VEVENT
DTSTART:20140220T174500Z
DTEND:20140220T191500Z
X-MICROSOFT-CDO-ALLDAYEVENT:FALSE
SUMMARY:Chamber Lunch and Learn: Executive & Business Coaching
DESCRIPTION:Join Tanya LaBuick from LaBuick Consulting for an Executive & Business Coaching workshop - What it is and what it isn't.\n\n\n\nLearn how your business can us it as a tool for leadership\, growth\, skill development and retention
X-ALT-DESC;FMTTYPE=text/html:Join Tanya LaBuick from <a href="http://tanyalabuick.com/">LaBuick Consulting </a>for an Executive &amp\; Business Coaching workshop - What it is and what it isn&#39\;t.<br />\n<br />\nLearn how your business can us it as a tool for leadership\, growth\, skill development and retention
LOCATION:Brandon Chamber of Commerce Office 1043 Rosser Ave
UID:e.1595.82
SEQUENCE:3
DTSTAMP:20260421T110954Z
URL:https://dev.brandonchamber.ca/events/details/chamber-lunch-and-learn-executive-business-coaching-02-20-2014-82
END:VEVENT

END:VCALENDAR
