BEGIN:VCALENDAR
VERSION:2.0
PRODID:-//ChamberMaster//Event Calendar 2.0//EN
METHOD:PUBLISH
X-PUBLISHED-TTL:P3D
REFRESH-INTERVAL:P3D
CALSCALE:GREGORIAN
BEGIN:VEVENT
DTSTART:20140625T170000Z
DTEND:20140625T180000Z
X-MICROSOFT-CDO-ALLDAYEVENT:FALSE
SUMMARY:Chamber Lunch and Learn: Canadian Anti-Spam Legislation
DESCRIPTION:Do you use electronic marketing to reach your customers? Have you ever made mention of a prize in your email subject line?\n\n\n\nIf you do\, you need to attend our lunch and learn on the new Canadian Anti-Spam Legislation (CASL) that comes into effect July 1\, 2014.\n\n\n\nJoin us as our facilitator Karla Dane\, associate lawyer with the law firm Meighen Haddad LLP\, explains the ins and outs to help you understand what will be required when this new legislation comes into effect.\n\n\n\nAs quoted from Karla's expert insert in this month's Chamber at a Glance "This new legislation goes beyond dealing with the simple spam message as we know it and will affect any individual\, business or organization that uses commercial electronic messages\, deals with the alteration of transmission data\, or installs/produces computer programs. For many\, this could change the way that advertising\, promotion and sales are conveyed to the general public via electronic means."
X-ALT-DESC;FMTTYPE=text/html:Do you use electronic marketing to reach your customers?&nbsp\;Have you ever made mention of a prize in your email subject line?<br />\n<br />\nIf you do\, you need to attend our lunch and learn on the new Canadian Anti-Spam Legislation (CASL)&nbsp\;that comes into effect July 1\, 2014.<br />\n<br />\nJoin us as our facilitator Karla Dane\, associate lawyer&nbsp\;with the law firm Meighen Haddad LLP\,&nbsp\;explains the ins and outs to help you understand what will be required when this new legislation comes into effect.<br />\n<br />\nAs quoted from Karla&#39\;s expert insert in this month&#39\;s Chamber at a Glance &quot\;This new legislation goes beyond dealing with the simple spam message as we know it and will affect any individual\, business or organization that uses commercial electronic messages\, deals with the alteration of transmission data\, or installs/produces computer programs. For many\, this could change the way that advertising\, promotion and sales are conveyed to the general public via electronic means.&quot\;
LOCATION:Brandon Chamber of Commerce 1043 Rosser Ave
UID:e.1595.100
SEQUENCE:3
DTSTAMP:20260421T053846Z
URL:https://dev.brandonchamber.ca/events/details/chamber-lunch-and-learn-canadian-anti-spam-legislation-06-25-2014-100
END:VEVENT

END:VCALENDAR
