BEGIN:VCALENDAR
VERSION:2.0
PRODID:-//ChamberMaster//Event Calendar 2.0//EN
METHOD:PUBLISH
X-PUBLISHED-TTL:P3D
REFRESH-INTERVAL:P3D
CALSCALE:GREGORIAN
BEGIN:VEVENT
DTSTART;VALUE=DATE:20160525
DTEND;VALUE=DATE:20160528
TRANSP:TRANSPARENT
X-MICROSOFT-CDO-ALLDAYEVENT:TRUE
SUMMARY:Centrallia 2016 - Global Forum
DESCRIPTION:Grow your business at Centrallia\n\nAre you looking to grow your business\, form new partnerships or explore new global markets? Then you won't want to miss Centrallia! A global business to business forum\, Centrallia has been designed specifically for businesses seeking new opportunities.\n\n\n\nThe 4th Edition of Centrallia will welcome more than 700 businesses from all over Canada and from more than 30 countries\, World Trade Centres as well as Chambers of Commerce\, and trade and investment agencies\, making this an excellent opportunity to do business and learn about many aspects of trade.\n\n\n\nCentrallia is ideal for businesses looking for opportunities in the following industries:\n\nManufacturing\n\nTransportation and Logistics\n\nAgribusiness\n\nInformation and Communications Technologies\n\nEnvironmental Industries\n\nEnergy\, Resources and Mining\n\nConstruction/Infrastructure\n\nInnovation and R&D\n\n\n\nThe Brandon Chamber of Commerce is a Delegation Leader for this event so be sure to join our delegation when you register.
X-ALT-DESC;FMTTYPE=text/html:<span style="color: rgb(0\, 0\, 255)\;"><u><strong>Grow your business at Centrallia</strong></u></span><br />\nAre you looking to grow your business\, form new partnerships or explore new global markets? Then you won&#39\;t want to miss Centrallia! A global business to business forum\, Centrallia has been designed specifically for businesses seeking new opportunities.<br />\n<br />\nThe 4th Edition of Centrallia will welcome more than 700 businesses from all over Canada and from more than 30 countries\, World Trade Centres as well as Chambers of Commerce\, and trade and investment agencies\, making this an excellent opportunity to do business and learn about many aspects of trade.<br />\n<br />\nCentrallia is ideal for businesses looking for opportunities in the following industries:<br />\n<em>Manufacturing<br />\nTransportation and Logistics<br />\nAgribusiness<br />\nInformation and Communications Technologies<br />\nEnvironmental Industries<br />\nEnergy\, Resources and Mining<br />\nConstruction/Infrastructure<br />\nInnovation and R&amp\;D</em><br />\n<br />\n<span style="color: rgb(0\, 0\, 255)\;"><strong>The Brandon Chamber of Commerce is a Delegation Leader for this event so be sure to join our delegation when you register. </strong></span>
LOCATION:RBC Convention Centre Winnipeg - City View Room (3rd Floor) 375 York Avenue (connected to the Delta Hotel via Skywalk)
UID:e.1595.409
SEQUENCE:3
DTSTAMP:20260419T143421Z
URL:https://dev.brandonchamber.ca/events/details/centrallia-2016-global-forum-05-25-2016-409
END:VEVENT

END:VCALENDAR
