BEGIN:VCALENDAR
VERSION:2.0
PRODID:-//ChamberMaster//Event Calendar 2.0//EN
METHOD:PUBLISH
X-PUBLISHED-TTL:P3D
REFRESH-INTERVAL:P3D
CALSCALE:GREGORIAN
BEGIN:VEVENT
DTSTART:20151104T010000Z
DTEND:20151104T030000Z
X-MICROSOFT-CDO-ALLDAYEVENT:FALSE
SUMMARY:Canadian Red Cross - Open House!
DESCRIPTION:The Brandon Canadian Red Cross office is hosting an Open House on Tuesday\, November 3rd from 7:00pm - 9:00pm at 817 Rosser Ave. We are inviting the public to visit the "Our World at War" Photo Exhibit: a display of five award-winning photographers and the stories of loss and suffering in war captured on film.\n\nDrop in and find out how you can help people in need! Our staff and volunteers will be around to answer any questions you may have about becoming involved with the Red Cross through numerous volunteer opportunities.
X-ALT-DESC;FMTTYPE=text/html:<p>The Brandon Canadian&nbsp\;Red Cross office is hosting an Open House on Tuesday\, November 3rd from 7:00pm - 9:00pm at 817 Rosser Ave. We are inviting the public to visit the &ldquo\;Our World at War&rdquo\; Photo Exhibit: a display of five award-winning photographers and the stories of loss and suffering in war captured on film.</p>\n\n<p>Drop in and find out how you can help people in need! Our staff and volunteers will be around to answer any questions you may have about becoming involved with the Red Cross through numerous volunteer opportunities.<br />\n&nbsp\;</p>\n
LOCATION:Canadian Red Cross - 817 Rosser Avenue\, Brandon\, MB
UID:e.1595.395
SEQUENCE:3
DTSTAMP:20260419T222714Z
URL:https://dev.brandonchamber.ca/events/details/canadian-red-cross-open-house-11-03-2015-395
END:VEVENT

END:VCALENDAR
