BEGIN:VCALENDAR
VERSION:2.0
PRODID:-//ChamberMaster//Event Calendar 2.0//EN
METHOD:PUBLISH
X-PUBLISHED-TTL:P3D
REFRESH-INTERVAL:P3D
CALSCALE:GREGORIAN
BEGIN:VEVENT
DTSTART:20140930T164500Z
DTEND:20140930T213000Z
X-MICROSOFT-CDO-ALLDAYEVENT:FALSE
SUMMARY:Canadian Manufacturers & Exporters Presents: Westman Manufacturers' Forum
DESCRIPTION:Join CME and Westman-region manufacturers & exporters for a half-day of information and access to resources in support of your business.\n\n\n\nHear comments from local manufacturers\, participate in a hands-on session with a new program of practical applied innovation\, and a segment on business planning for exports and sales.\n\n\n\nClick HERE for full details\n\n\n\nPlease visit the website to register.
X-ALT-DESC;FMTTYPE=text/html:<font color="#808080">Join CME and Westman-region manufacturers &amp\; exporters for a half-day of information and access to resources in support of your business.<br />\n<br />\nHear comments from local manufacturers\, participate in a hands-on session with a new program of practical applied innovation\, and a segment on business planning for exports and sales.<br />\n<br />\nClick <span style="font-size: 18px\;"><u><strong><a href="http://www.brandonchamber.ca/wp-content/uploads/2014/09/Westman-Manufacturers-Gathering-partners.pdf">HERE</a></strong></u></span> for full details<br />\n<br />\nPlease visit the website to register.</font><br />\n&nbsp\;
LOCATION:Royal Oak Inn & Suites 3130 Victoria Ave Brandon\, MB
UID:e.1595.132
SEQUENCE:3
DTSTAMP:20260421T015345Z
URL:https://dev.brandonchamber.ca/events/details/canadian-manufacturers-exporters-presents-westman-manufacturers-forum-09-30-2014-132
END:VEVENT

END:VCALENDAR
