BEGIN:VCALENDAR
VERSION:2.0
PRODID:-//ChamberMaster//Event Calendar 2.0//EN
METHOD:PUBLISH
X-PUBLISHED-TTL:P3D
REFRESH-INTERVAL:P3D
CALSCALE:GREGORIAN
BEGIN:VEVENT
DTSTART:20160210T143000Z
DTEND:20160210T230000Z
X-MICROSOFT-CDO-ALLDAYEVENT:FALSE
SUMMARY:Business to Business Summit - POSTPONED
DESCRIPTION:A Networking Conference for Westman Business\n\n\n\nThe full day of one-on-one conversations\, speaker and panel sessions\, and showcase of Westman business has been postponed.  A number of contributing factors has prevented us from moving ahead with our Business to Business Summit as scheduled. We have been working with a number of great local people to ensure a high-caliber event\, but a number of situations left us with no alternative but to postpone\; this decision was not made lightly. The priority has always been to encourage business growth by connecting Westman businesses\, and it is our intent to reschedule the event possibly in the fall of this year. \n\n \n\nWe continue to look forward to having you attend our State of the Economy Luncheon scheduled for the same date\, and will make an announcement once we have set a new date for the networking conference.  \n\n\n\nB2B Meeting Concept\n\nA pre-arranged meeting format designed to accelerate business contacts\; attendees share their professional backgrounds and business goals. Networkers are generally seeking understanding of new markets trying to broaden their connections by increasing their exposure.\n\n\n\nSelect other registrants with which you would like to meet\; the matching process will take into consideration those that would like to meet with you. The targeted meetings facilitate four face-to-face conversations with businesses that otherwise might have been difficult to obtain. The meetings have the potential to identify new leads\, new partnership opportunities and uncovering new or hidden markets in an efficient\, cost effective manner.\n\n\n\n \n\n	\n		\n			8:30\n			Registration & Continental Breakfast\n		\n		\n			 \n			Procurement Panel\n		\n		\n			 \n			Speed Networking #1\n		\n		\n			 \n			Speed Networking #2\n		\n		\n			11:30 \n			Economic Outlook Luncheon\n		\n		\n			 \n			Speed Networking #3\n		\n		\n			 \n			Speed Networking #4\n		\n		\n			 \n			Local Synergy Story\n		\n		\n			 \n			Enbridge: Business Opportunities \n		\n		\n			4:00\n			Networking Reception\n		\n	\n\n\n\nClick here to view the flyer\n\n\n\nIncluded with conference registration: Chamber Luncheon: State of the Economy. More information & registration can be found here.
X-ALT-DESC;FMTTYPE=text/html:<strong><span style="font-size: 16pt\;"><span style="font-family: tahoma\,sans-serif\;"><span style="color: rgb(51\, 51\, 51)\;">A Networking Conference for Westman Business</span></span></span></strong><br />\n<br />\n<span style="font-size: 12pt\;"><span style="font-family: tahoma\,sans-serif\;"><span style="color: rgb(51\, 51\, 51)\;">The full day of one-on-one conversations\, speaker and panel sessions\, and showcase of Westman business has been postponed.&nbsp\; A</span></span></span><span style="font-family: tahoma\;"><span style="font-size: medium\;"> number of contributing factors has prevented us from moving ahead with our Business to Business Summit as scheduled. We have been working with a number of great local people to ensure a high-caliber event\, but a number of situations left us with no alternative but to postpone\; this decision was not made lightly. The priority has always been to encourage business growth by connecting Westman businesses\, and it is our intent to reschedule the event possibly in the fall of this year. </span><br />\n&nbsp\;<br />\n<span style="font-size: medium\;"><u>We continue to look forward to having you attend our State of the Economy Luncheon scheduled for the same date</u>\, and will make an announcement&nbsp\;once we have set a new date for the networking conference.&nbsp\;</span>&nbsp\;</span><br />\n<br />\n<strong><span style="font-size: 14pt\;"><span style="font-family: tahoma\,sans-serif\;"><span style="color: rgb(51\, 51\, 51)\;">B2B Meeting Concept</span></span></span></strong><br />\n<em><span style="font-size: 12pt\;"><span style="font-family: tahoma\,sans-serif\;"><span style="color: rgb(51\, 51\, 51)\;">A pre-arranged meeting format designed to accelerate business contacts\; attendees share their professional backgrounds and business goals. Networkers are generally seeking understanding of new markets trying to broaden their connections by increasing their exposure.</span></span></span></em><br />\n<br />\n<span style="font-size: 12pt\;"><span style="font-family: tahoma\,sans-serif\;"><span style="color: rgb(51\, 51\, 51)\;">Select other registrants with which you would like to meet\;&nbsp\;the matching process will take into consideration those that would like to meet with you. The targeted meetings facilitate four face-to-face conversations with businesses that otherwise might have been difficult to obtain. The meetings have the potential to identify new leads\, new partnership opportunities and uncovering new or hidden markets in an efficient\, cost effective manner.</span></span></span><br />\n<br />\n&nbsp\;\n<table border="1" cellpadding="0" cellspacing="0" style="border: currentColor\; border-image: none\; width: 343px\; border-collapse: collapse\;" width="343">\n	<tbody>\n		<tr style="height: 20px\;">\n			<td style="background: rgb(217\, 217\, 217)\; padding: 0in 5.4pt\; border: 1pt solid windowtext\; border-image: none\; width: 55px\; height: 20px\;"><span style="font-size: 10pt\;"><span style="font-family: tahoma\,sans-serif\;"><span style="color: black\;">8:30</span></span></span></td>\n			<td style="background: rgb(217\, 217\, 217)\; border-width: 1pt 1pt 1pt 0px\; border-style: solid solid solid none\; padding: 0in 5.4pt\; width: 288px\; height: 20px\;"><span style="font-size: 10pt\;"><span style="font-family: tahoma\,sans-serif\;"><span style="color: black\;">Registration &amp\; Continental Breakfast</span></span></span></td>\n		</tr>\n		<tr style="height: 20px\;">\n			<td style="border-width: 0px 1pt 1pt\; border-style: none solid solid\; padding: 0in 5.4pt\; width: 55px\; height: 20px\;">&nbsp\;</td>\n			<td style="border-width: 0px 1pt 1pt 0px\; border-style: none solid solid none\; padding: 0in 5.4pt\; width: 288px\; height: 20px\;"><strong><span style="font-size: 10pt\;"><span style="font-family: tahoma\,sans-serif\;"><span style="color: black\;">Procurement Panel</span></span></span></strong></td>\n		</tr>\n		<tr style="height: 20px\;">\n			<td style="border-width: 0px 1pt 1pt\; border-style: none solid solid\; padding: 0in 5.4pt\; width: 55px\; height: 20px\;">&nbsp\;</td>\n			<td style="border-width: 0px 1pt 1pt 0px\; border-style: none solid solid none\; padding: 0in 5.4pt\; width: 288px\; height: 20px\;"><strong><span style="font-size: 10pt\;"><span style="font-family: tahoma\,sans-serif\;"><span style="color: black\;">Speed Networking #1</span></span></span></strong></td>\n		</tr>\n		<tr style="height: 20px\;">\n			<td style="border-width: 0px 1pt 1pt\; border-style: none solid solid\; padding: 0in 5.4pt\; width: 55px\; height: 20px\;">&nbsp\;</td>\n			<td style="border-width: 0px 1pt 1pt 0px\; border-style: none solid solid none\; padding: 0in 5.4pt\; width: 288px\; height: 20px\;"><strong><span style="font-size: 10pt\;"><span style="font-family: tahoma\,sans-serif\;"><span style="color: black\;">Speed Networking #2</span></span></span></strong></td>\n		</tr>\n		<tr style="height: 20px\;">\n			<td style="background: rgb(217\, 217\, 217)\; border-width: 0px 1pt 1pt\; border-style: none solid solid\; padding: 0in 5.4pt\; width: 55px\; height: 20px\;"><span style="font-size: 10pt\;"><span style="font-family: tahoma\,sans-serif\;"><span style="color: black\;">11:</span></span></span><font color="#000000" face="Tahoma" size="2">30</font><span style="font-size: 10pt\;"><span style="font-family: tahoma\,sans-serif\;"><span style="color: black\;"> </span></span></span></td>\n			<td style="background: rgb(217\, 217\, 217)\; border-width: 0px 1pt 1pt 0px\; border-style: none solid solid none\; padding: 0in 5.4pt\; width: 288px\; height: 20px\;"><span style="font-size: 10pt\;"><span style="font-family: tahoma\,sans-serif\;"><span style="color: black\;"><strong>Economic Outlook Luncheon</strong></span></span></span></td>\n		</tr>\n		<tr style="height: 20px\;">\n			<td style="border-width: 0px 1pt 1pt\; border-style: none solid solid\; padding: 0in 5.4pt\; width: 55px\; height: 20px\;">&nbsp\;</td>\n			<td style="border-width: 0px 1pt 1pt 0px\; border-style: none solid solid none\; padding: 0in 5.4pt\; width: 288px\; height: 20px\;"><strong><span style="font-size: 10pt\;"><span style="font-family: tahoma\,sans-serif\;"><span style="color: black\;">Speed Networking #3</span></span></span></strong></td>\n		</tr>\n		<tr style="height: 20px\;">\n			<td style="border-width: 0px 1pt 1pt\; border-style: none solid solid\; padding: 0in 5.4pt\; width: 55px\; height: 20px\;">&nbsp\;</td>\n			<td style="border-width: 0px 1pt 1pt 0px\; border-style: none solid solid none\; padding: 0in 5.4pt\; width: 288px\; height: 20px\;"><strong><span style="font-size: 10pt\;"><span style="font-family: tahoma\,sans-serif\;"><span style="color: black\;">Speed Networking #4</span></span></span></strong></td>\n		</tr>\n		<tr style="height: 20px\;">\n			<td style="border-width: 0px 1pt 1pt\; border-style: none solid solid\; padding: 0in 5.4pt\; width: 55px\; height: 20px\;">&nbsp\;</td>\n			<td style="border-width: 0px 1pt 1pt 0px\; border-style: none solid solid none\; padding: 0in 5.4pt\; width: 288px\; height: 20px\;"><strong><span style="font-size: 10pt\;"><span style="font-family: tahoma\,sans-serif\;"><span style="color: black\;">Local Synergy Story</span></span></span></strong></td>\n		</tr>\n		<tr style="height: 20px\;">\n			<td style="border-width: 0px 1pt 1pt\; border-style: none solid solid\; padding: 0in 5.4pt\; width: 55px\; height: 20px\;">&nbsp\;</td>\n			<td style="border-width: 0px 1pt 1pt 0px\; border-style: none solid solid none\; padding: 0in 5.4pt\; width: 288px\; height: 20px\;"><strong><span style="font-size: 10pt\;"><span style="font-family: tahoma\,sans-serif\;"><span style="color: black\;">Enbridge: Business Opportunities </span></span></span></strong></td>\n		</tr>\n		<tr style="height: 20px\;">\n			<td style="background: rgb(217\, 217\, 217)\; border-width: 0px 1pt 1pt\; border-style: none solid solid\; padding: 0in 5.4pt\; width: 55px\; height: 20px\;"><span style="font-size: 10pt\;"><span style="font-family: tahoma\,sans-serif\;"><span style="color: black\;">4:00</span></span></span></td>\n			<td style="background: rgb(217\, 217\, 217)\; border-width: 0px 1pt 1pt 0px\; border-style: none solid solid none\; padding: 0in 5.4pt\; width: 288px\; height: 20px\;"><span style="font-size: 10pt\;"><span style="font-family: tahoma\,sans-serif\;"><span style="color: black\;">Networking Reception</span></span></span></td>\n		</tr>\n	</tbody>\n</table>\n<br />\n<span style="font-size: 16px\;"><span style="font-family: tahoma\;"><strong><a href="http://cloud.chambermaster.com/userfiles/UserFiles/chambers/1595/File/ChamberB2Bflyer.pdf"><span style="color: rgb(255\, 140\, 0)\;">Click here to view the flyer</span></a></strong></span></span><br />\n<br />\n<span style="font-size: 16px\;"><span style="font-family: tahoma\;">Included with conference registration: </span></span><span style="font-size: 16px\;"><span style="font-family: tahoma\;"><strong>Chamber Luncheon: State of the Economy</strong>. More information &amp\; registration can be found <a href="http://brandonchamberofcommerce.chambermaster.com/events/details/chamber-luncheon-series-state-of-the-economy-402"><u><strong>here</strong></u></a>.&nbsp\;</span></span>
LOCATION:Victoria Inn
UID:e.1595.403
SEQUENCE:3
DTSTAMP:20260419T183109Z
URL:https://dev.brandonchamber.ca/events/details/business-to-business-summit-postponed-02-10-2016-403
END:VEVENT

END:VCALENDAR
