BEGIN:VCALENDAR
VERSION:2.0
PRODID:-//ChamberMaster//Event Calendar 2.0//EN
METHOD:PUBLISH
X-PUBLISHED-TTL:P3D
REFRESH-INTERVAL:P3D
CALSCALE:GREGORIAN
BEGIN:VEVENT
DTSTART:20141118T180000Z
DTEND:20141118T191500Z
X-MICROSOFT-CDO-ALLDAYEVENT:FALSE
SUMMARY:Business Information Series: The Accessibility for Manitobans Act (AMA)
DESCRIPTION:Join us for lunch to learn more about The Accessibility for Manitobans Act (AMA) and the developing mandatory accessibility standards that apply to your business
X-ALT-DESC;FMTTYPE=text/html:Join us for lunch to learn more about The Accessibility for Manitobans Act (AMA) and the developing mandatory accessibility standards that apply to your business
LOCATION:Brandon Chamber of Commerce Board Room 1043 Rosser Ave
UID:e.1595.173
SEQUENCE:3
DTSTAMP:20260420T225312Z
URL:https://dev.brandonchamber.ca/events/details/business-information-series-the-accessibility-for-manitobans-act-ama-11-18-2014-173
END:VEVENT

END:VCALENDAR
