BEGIN:VCALENDAR
VERSION:2.0
PRODID:-//ChamberMaster//Event Calendar 2.0//EN
METHOD:PUBLISH
X-PUBLISHED-TTL:P3D
REFRESH-INTERVAL:P3D
CALSCALE:GREGORIAN
BEGIN:VEVENT
DTSTART:20151015T143000Z
DTEND:20151015T170000Z
X-MICROSOFT-CDO-ALLDAYEVENT:FALSE
SUMMARY:Business Information Series: Email Marketing
DESCRIPTION:There are two sessions being offered:\n\n \n\n	Intro Session: For those who are not using Constant Contact - learn about the benefits\, including the Chamber discount rate\n	User Session: For those who are already using Constant Contact - ensure you are using the software properly and to all of its capabilities\n\nIntro Session - for new customers:\n\n \n\nGetting Started with Toolkit: A Live\, Guided Demonstration of Constant Contact's Latest Offering \n\n \n\nLive guided demonstration on the tools and features inside Constant Contact's Toolkit. In this time-efficient\, highly practical one-hour session\, you will learn the basics so you can get going with your own marketing. This session is suitable for anyone new to Constant Contact\, or who just wants a hand learning how to use the products. The session will cover:\n\n \n\n	Setting up your Constant Contact account\n	Review of Campaign Templates available\n	Creating a campaign and editing the template\n	Branding your campaigns with your logo\, colors and photos\n	Contacts and how to import your email lists\n	Getting new subscribers by adding sign-up boxes to your website and emails\n	Reports\, Tracking and interpreting your results\n\n \n\nIt's a relaxed\, friendly educational session - bring your questions! \n\n \n\nUser Session - for existing Constant Contact customers\n\n \n\nMeasuring Your Marketing: How to use reports and analytics to evaluate your marketing campaigns\n\n \n\nMetrics - can be like magic. Have you wondered: how can the reports and analytics of digital marketing give you the insight and key info you need to succeed? This seminar will take you step-by-step through the amazing data generated by all the key online marketing tools - and give you tips on how to use it. You will learn:\n\n \n\n	How to access the "open" and "click-through" reports  \n	Which of your products/services are hot\, which are not\, and how to test for best results so you can focus your precious time\, efforts & energy\n	The calls to action and messaging that actually WORK\n	Best times\, days and ways to get the response you want\n	How evaluating event registration and survey response patterns can help improve your next campaign by leaps and bounds\n	How social media engagement and click rates can tell you the topics\, type of media posts\, and frequency your connections really want\n	How research\, setting goals\, monitoring campaign results and applying lessons learned will continually improve your results!\n\n \n\n\n\nThrough Chamber Business Information Series you can learn new skills\, meet business peers\, stay informed or get motivated by bringing back something new to your organization.  The Chamber works closely with our members to identify key topics of interest to the business community\, and guest speakers to bring insight\, knowledge and strategies to attendees. Sessions are always interesting\, topical and affordable (often free)\, and also provide a great networking opportunity in a smaller setting.
X-ALT-DESC;FMTTYPE=text/html:<span style="font-size: 10pt\;"><span style="font-family: arial\,sans-serif\;"><span style="color: rgb(51\, 51\, 51)\;">There are two sessions being offered:</span></span></span><br />\n&nbsp\;\n<ol>\n	<li><strong><span style="font-size: 10pt\;"><span style="font-family: arial\,sans-serif\;"><span style="color: rgb(51\, 51\, 51)\;">Intro Session</span></span></span></strong><span style="font-size: 10pt\;"><span style="font-family: arial\,sans-serif\;"><span style="color: rgb(51\, 51\, 51)\;">: For&nbsp\;those who are not using Constant Contact - learn about the benefits\, including the Chamber discount rate</span></span></span></li>\n	<li><strong><span style="font-size: 10pt\;"><span style="font-family: arial\,sans-serif\;"><span style="color: rgb(51\, 51\, 51)\;">User Session</span></span></span></strong><span style="font-size: 10pt\;"><span style="font-family: arial\,sans-serif\;"><span style="color: rgb(51\, 51\, 51)\;">: For those who are already using Constant Contact - ensure you are&nbsp\;using the software properly and to all of its capabilities</span></span></span></li>\n</ol>\n<strong><span style="font-size: 10pt\;"><span style="font-family: arial\,sans-serif\;"><span style="color: rgb(51\, 51\, 51)\;">Intro Session</span></span></span></strong><span style="font-size: 10pt\;"><span style="font-family: arial\,sans-serif\;"><span style="color: rgb(51\, 51\, 51)\;"> - for new customers:</span></span></span><br />\n&nbsp\;<br />\n<span style="font-size: 10pt\;"><span style="font-family: arial\,sans-serif\;"><span style="color: rgb(51\, 51\, 51)\;">Getting Started with Toolkit: A Live\, Guided Demonstration of Constant Contact&#39\;s Latest Offering </span></span></span><br />\n&nbsp\;<br />\n<span style="font-size: 10pt\;"><span style="font-family: arial\,sans-serif\;"><span style="color: rgb(51\, 51\, 51)\;">Live guided demonstration on the tools and features inside Constant Contact&#39\;s Toolkit. In this time-efficient\, highly practical one-hour session\, you will learn the basics so you can get going with your own marketing. This session is suitable for anyone new to Constant Contact\, or who just wants a hand learning how to use the products. The session will cover:</span></span></span><br />\n&nbsp\;\n<ul>\n	<li><span style="font-size: 10pt\;"><span style="font-family: arial\,sans-serif\;"><span style="color: rgb(51\, 51\, 51)\;">Setting up your Constant Contact account</span></span></span></li>\n	<li><span style="font-size: 10pt\;"><span style="font-family: arial\,sans-serif\;"><span style="color: rgb(51\, 51\, 51)\;">Review of Campaign Templates available</span></span></span></li>\n	<li><span style="font-size: 10pt\;"><span style="font-family: arial\,sans-serif\;"><span style="color: rgb(51\, 51\, 51)\;">Creating a campaign and editing the template</span></span></span></li>\n	<li><span style="font-size: 10pt\;"><span style="font-family: arial\,sans-serif\;"><span style="color: rgb(51\, 51\, 51)\;">Branding your campaigns with your logo\, colors and photos</span></span></span></li>\n	<li><span style="font-size: 10pt\;"><span style="font-family: arial\,sans-serif\;"><span style="color: rgb(51\, 51\, 51)\;">Contacts and how to import your email lists</span></span></span></li>\n	<li><span style="font-size: 10pt\;"><span style="font-family: arial\,sans-serif\;"><span style="color: rgb(51\, 51\, 51)\;">Getting new subscribers by adding sign-up boxes to your website and emails</span></span></span></li>\n	<li><span style="font-size: 10pt\;"><span style="font-family: arial\,sans-serif\;"><span style="color: rgb(51\, 51\, 51)\;">Reports\, Tracking and interpreting your results</span></span></span></li>\n</ul>\n&nbsp\;<br />\n<span style="font-size: 10pt\;"><span style="font-family: arial\,sans-serif\;"><span style="color: rgb(51\, 51\, 51)\;">It&#39\;s a relaxed\, friendly educational session - bring your questions! </span></span></span><br />\n&nbsp\;<br />\n<strong><span style="font-size: 10pt\;"><span style="font-family: arial\,sans-serif\;"><span style="color: rgb(51\, 51\, 51)\;">User Session</span></span></span></strong><span style="font-size: 10pt\;"><span style="font-family: arial\,sans-serif\;"><span style="color: rgb(51\, 51\, 51)\;"> - for existing Constant Contact customers</span></span></span><br />\n&nbsp\;<br />\n<span style="font-size: 10pt\;"><span style="font-family: arial\,sans-serif\;"><span style="color: rgb(51\, 51\, 51)\;">Measuring Your Marketing: How to use reports and analytics to evaluate your marketing campaigns</span></span></span><br />\n&nbsp\;<br />\n<span style="font-size: 10pt\;"><span style="font-family: arial\,sans-serif\;"><span style="color: rgb(51\, 51\, 51)\;">Metrics - can be like magic. Have you wondered: how can the reports and analytics of digital marketing give you the insight and key info you need to succeed? This seminar will take you step-by-step through the amazing data generated by all the key online marketing tools - and give you tips on how to use it. You will learn:</span></span></span><br />\n&nbsp\;\n<ul>\n	<li><span style="font-size: 10pt\;"><span style="font-family: arial\,sans-serif\;"><span style="color: rgb(51\, 51\, 51)\;">How to access the &ldquo\;open&rdquo\; and &ldquo\;click-through&rdquo\; reports&nbsp\; </span></span></span></li>\n	<li><span style="font-size: 10pt\;"><span style="font-family: arial\,sans-serif\;"><span style="color: rgb(51\, 51\, 51)\;">Which of your products/services are hot\, which are not\, and how to test for best results so you can focus your precious time\, efforts &amp\; energy</span></span></span></li>\n	<li><span style="font-size: 10pt\;"><span style="font-family: arial\,sans-serif\;"><span style="color: rgb(51\, 51\, 51)\;">The calls to action and messaging that actually WORK</span></span></span></li>\n	<li><span style="font-size: 10pt\;"><span style="font-family: arial\,sans-serif\;"><span style="color: rgb(51\, 51\, 51)\;">Best times\, days and ways to get the response you want</span></span></span></li>\n	<li><span style="font-size: 10pt\;"><span style="font-family: arial\,sans-serif\;"><span style="color: rgb(51\, 51\, 51)\;">How evaluating event registration and survey response patterns can help improve your next campaign by leaps and bounds</span></span></span></li>\n	<li><span style="font-size: 10pt\;"><span style="font-family: arial\,sans-serif\;"><span style="color: rgb(51\, 51\, 51)\;">How social media engagement and click rates can tell you the topics\, type of media posts\, and frequency your connections really want</span></span></span></li>\n	<li><span style="font-size: 10pt\;"><span style="font-family: arial\,sans-serif\;"><span style="color: rgb(51\, 51\, 51)\;">How research\, setting goals\, monitoring campaign results and applying lessons learned will continually improve your results!</span></span></span></li>\n</ul>\n&nbsp\;<br />\n<br />\n<span style="font-size: 10pt\;"><span style="font-family: arial\,sans-serif\;"><span style="color: rgb(51\, 51\, 51)\;"><em>Through Chamber Business Information Series you can learn new skills\, meet business peers\, stay informed or get motivated by bringing back something new to your organization.&nbsp\; The Chamber works closely with our members to identify key topics of interest to the business community\, and guest speakers to bring insight\, knowledge and strategies to attendees. Sessions are always interesting\, topical and affordable (often free)\, and also provide a great networking opportunity in a smaller setting.</em></span></span></span><br />\n&nbsp\;
LOCATION:Chamber Boardroom 1043 Rosser Avenue Brandon MB
UID:e.1595.390
SEQUENCE:3
DTSTAMP:20260419T234524Z
URL:https://dev.brandonchamber.ca/events/details/business-information-series-email-marketing-10-15-2015-390
END:VEVENT

END:VCALENDAR
