BEGIN:VCALENDAR
VERSION:2.0
PRODID:-//ChamberMaster//Event Calendar 2.0//EN
METHOD:PUBLISH
X-PUBLISHED-TTL:P3D
REFRESH-INTERVAL:P3D
CALSCALE:GREGORIAN
BEGIN:VEVENT
DTSTART:20141119T190000Z
DTEND:20141119T200000Z
X-MICROSOFT-CDO-ALLDAYEVENT:FALSE
SUMMARY:Business Information Series - Chamber 101
DESCRIPTION:Chamber 101 is a quick\, how-to guide for making the most of your membership investment. This workshop is to help familiarize you with the numerous benefits and features of your membership\n\n\n\nChamber 101 gives you an insiders look at what's available to promote your business\, save money\, provide benefits to your staff\, and make the connections that you need to grow your business and your career\n\n\n\nIn addition\, each business attending is given a 30-second commercial to showcase what they have to offer the community.
X-ALT-DESC;FMTTYPE=text/html:Chamber 101 is a quick\, how-to guide for making the most of your membership investment. This workshop is to help familiarize you with the numerous benefits and features of your membership<br />\n<br />\nChamber 101 gives you an insiders look at what&#39\;s available to promote your business\, save money\, provide benefits to your staff\, and make the connections that you need to grow your business and your career<br />\n<br />\nIn addition\, each business attending is given a 30-second commercial to showcase what they have to offer the community.
LOCATION:Brandon Chamber of Commerce Boardroom 1043 Rosser Ave 204-571-5340
UID:e.1595.167
SEQUENCE:3
DTSTAMP:20260420T225016Z
URL:https://dev.brandonchamber.ca/events/details/business-information-series-chamber-101-11-19-2014-167
END:VEVENT

END:VCALENDAR
