BEGIN:VCALENDAR
VERSION:2.0
PRODID:-//ChamberMaster//Event Calendar 2.0//EN
METHOD:PUBLISH
X-PUBLISHED-TTL:P3D
REFRESH-INTERVAL:P3D
CALSCALE:GREGORIAN
BEGIN:VEVENT
DTSTART:20130924T140000Z
DTEND:20130924T150000Z
X-MICROSOFT-CDO-ALLDAYEVENT:FALSE
SUMMARY:Business Information Series - Chamber 101
DESCRIPTION:The Brandon Chamber of Commerce is hosting a Chamber 101 Workshop. This workshop is to help familiarize you with the numerous benefits and features of your membership.
X-ALT-DESC;FMTTYPE=text/html:The Brandon Chamber of Commerce is hosting a Chamber 101 Workshop. This workshop is to help familiarize you with the numerous benefits and features of your membership.
LOCATION:Brandon Chamber of Commerce 1043 Rosser Ave (204) 571-5340
UID:e.1595.34
SEQUENCE:3
DTSTAMP:20260421T181728Z
URL:https://dev.brandonchamber.ca/events/details/business-information-series-chamber-101-09-24-2013-34
END:VEVENT

END:VCALENDAR
