BEGIN:VCALENDAR
VERSION:2.0
PRODID:-//ChamberMaster//Event Calendar 2.0//EN
METHOD:PUBLISH
X-PUBLISHED-TTL:P3D
REFRESH-INTERVAL:P3D
CALSCALE:GREGORIAN
BEGIN:VEVENT
DTSTART:20140827T180000Z
DTEND:20140827T190000Z
X-MICROSOFT-CDO-ALLDAYEVENT:FALSE
SUMMARY:Business Information Series: Centrailla MB 2014
DESCRIPTION:The Brandon Chamber of Commerce and World Trade Centre Winnipeg will host a short information session. We will discuss how Centrallia Manitoba works and the business opportunities it presents for you. \n\n\n\nCentrallia Manitoba is a business and networking platform that allows Brandon businesses to expand their connections province-wide.  The event begins later in the day to allow participants time to arrive for the breakout sessions\, which includes learning how to become suppliers to government and key businesses in Manitoba.
X-ALT-DESC;FMTTYPE=text/html:<span style="font-family:arial\;"><span style="color: black\;"><span style="font-size: 10pt\;">The Brandon Chamber of Commerce and World Trade Centre Winnipeg will host a short information session. We will</span></span> <span style="color: black\;"><span style="font-size: 10pt\;">discuss how Centrallia Manitoba works and the business opportunities it presents for you. </span></span><br />\n<br />\n<span style="color: black\;"><span style="font-size: 10pt\;">Centrallia Manitoba is a business and networking platform that allows Brandon businesses to expand their connections province-wide.&nbsp\; The event begins later in the day to&nbsp\;allow participants time to arrive for the breakout sessions\, which includes learning how to become suppliers to government and key businesses in Manitoba.</span></span></span>
LOCATION:Brandon Chamber of Commerce Boardroom 1043 Rosser Avenue
UID:e.1595.102
SEQUENCE:3
DTSTAMP:20260421T031244Z
URL:https://dev.brandonchamber.ca/events/details/business-information-series-centrailla-mb-2014-08-27-2014-102
END:VEVENT

END:VCALENDAR
