BEGIN:VCALENDAR
VERSION:2.0
PRODID:-//ChamberMaster//Event Calendar 2.0//EN
METHOD:PUBLISH
X-PUBLISHED-TTL:P3D
REFRESH-INTERVAL:P3D
CALSCALE:GREGORIAN
BEGIN:VEVENT
DTSTART:20130117T173000Z
DTEND:20130117T190000Z
X-MICROSOFT-CDO-ALLDAYEVENT:FALSE
SUMMARY:Business Climate Luncheon
DESCRIPTION:Join us to hear the results of the Brandon Business Climate Survey.
X-ALT-DESC;FMTTYPE=text/html:Join us to hear the results of the Brandon Business Climate Survey.
LOCATION:Royal Oak Inn & Suites
UID:e.1595.7
SEQUENCE:3
DTSTAMP:20260422T051855Z
URL:https://dev.brandonchamber.ca/events/details/business-climate-luncheon-01-17-2013-7
END:VEVENT

END:VCALENDAR
