BEGIN:VCALENDAR
VERSION:2.0
PRODID:-//ChamberMaster//Event Calendar 2.0//EN
METHOD:PUBLISH
X-PUBLISHED-TTL:P3D
REFRESH-INTERVAL:P3D
CALSCALE:GREGORIAN
BEGIN:VEVENT
DTSTART:20140918T220000Z
DTEND:20140919T000000Z
X-MICROSOFT-CDO-ALLDAYEVENT:FALSE
SUMMARY:Business After 5 - Sutton-Harrison Realty
DESCRIPTION:Join us for our first Business After 5 of the 2014-2015 season at Sutton-Harrison Realty's new location.\n\n\n\nSutton-Harrison Realty is a 10 year old Manitoba locally owned Canadian Franchise. They service more than 50 communities with a full range of real estate needs including residential\, investment\, commercial\, and agricultural.\n\n\n\nCome after work and enjoy the informal event with refreshments\, socializing and a chance to win a door prize. A great networking opportunity\, create new business contacts and grow your business.
X-ALT-DESC;FMTTYPE=text/html:Join us for our first Business After 5 of the 2014-2015 season at<a href="http://www.suttonbrandonrealestate.com/"> Sutton-Harrison Realty&#39\;s</a> new location.<br />\n<br />\nSutton-Harrison Realty is a 10 year old Manitoba locally owned Canadian Franchise. They service more than 50 communities with a full range of real estate needs including residential\, investment\, commercial\, and agricultural.<br />\n<br />\nCome after work and enjoy the informal event with refreshments\, socializing and a chance to win a door prize. A great networking opportunity\, create new business contacts and grow your business.
LOCATION:Cornerstone Mall - corner of 18th and Rosser Unit 50 - 99 18th Street
UID:e.1595.104
SEQUENCE:3
DTSTAMP:20260421T013921Z
URL:https://dev.brandonchamber.ca/events/details/business-after-5-sutton-harrison-realty-09-18-2014-104
END:VEVENT

END:VCALENDAR
