BEGIN:VCALENDAR
VERSION:2.0
PRODID:-//ChamberMaster//Event Calendar 2.0//EN
METHOD:PUBLISH
X-PUBLISHED-TTL:P3D
REFRESH-INTERVAL:P3D
CALSCALE:GREGORIAN
BEGIN:VEVENT
DTSTART:20150917T220000Z
DTEND:20150918T000000Z
X-MICROSOFT-CDO-ALLDAYEVENT:FALSE
SUMMARY:Business After 5 - Sunrise Credit Union
DESCRIPTION:Join us with hosts Sunrise Credit Union for their grand opening at our Business After 5 event.\n\n\n\nIn 2008 Sunrise Credit Union came into being as the result of a merge of five legacy credit unions resulting in a network of 14 branches throughout southwestern Manitoba.  Analysis of the amalgamation and strategic plans for the future revealed that Sunrise members within Brandon did not have local access to Sunrise.  The Board of Directors and management put together a plan and leased space at 824 18th Street to provide deposit and loan services to our Brandon based members as well as rural members needing services while in Brandon.  Sunrise members and Brandon residents responded so positively to the new Sunrise location that within the first two years\, both staff and branch square footage doubled in size.  During this same period\, Sunrise Credit Union purchased the former CKX property at 2940 Victoria to use as administrative offices in support of all Sunrise branches.  \n\n \n\nContinued growth from Brandon and area encouraged Sunrise Credit Union to plan for future expansion.  Working closely with developer\, engineers and contractors\, the plans formulated for what is now the new Sunrise Credit Union building located at 2305 Victoria Avenue.  This past month has seen both the administrative and branch offices move into the new premises with everyone under one roof.  The modern building features new services such as drive-thru and walk-up ATMS and safety deposit boxes combined with ease of access and ample parking - a huge benefit for members and staff alike.  \n\n \n\nWith Grand Opening ceremonies will provide tours\, appetizers and refreshments\, with the ribbon cutting at 6:30 p.m.   Sunrise Credit Union plans to continue with personalized\, professional services as a financial institution owned by the people it serves.  \n\n\nCome after work and enjoy this informal event. It's a great networking opportunity to create new contacts and grow your business.
X-ALT-DESC;FMTTYPE=text/html:Join us with hosts&nbsp\;<a href="http://www.sunrisecu.mb.ca/">Sunrise Credit Union&nbsp\;</a>for their grand opening at our Business After 5 event.\n\n<p style="margin: 0in 0in 0pt\;"><br />\n<span style="color: rgb(31\, 73\, 125)\;"><font face="Calibri"><font size="3">In 2008 Sunrise Credit Union came into being as the result of a merge of five legacy credit unions resulting in a network of 14 branches throughout southwestern Manitoba.&nbsp\; Analysis of the amalgamation and strategic plans for the future revealed that Sunrise members within Brandon did not have local access to Sunrise.&nbsp\; The Board of Directors and management put together a plan and leased space at 824 18</font><sup><font size="2">th</font></sup><font size="3"> Street to provide deposit and loan services to our Brandon based members as well as rural members needing services while in Brandon.&nbsp\; Sunrise members and Brandon residents responded so positively to the new Sunrise location that within the first two years\, both staff and branch square footage doubled in size.&nbsp\; During this same period\, Sunrise Credit Union purchased the former CKX property at 2940 Victoria to use as administrative offices in support of all Sunrise branches.&nbsp\; </font></font></span></p>\n\n<p style="margin: 0in 0in 0pt\;"><span style="color: rgb(31\, 73\, 125)\;"><font face="Calibri" size="3">&nbsp\;</font></span></p>\n\n<p style="margin: 0in 0in 0pt\;"><span style="color: rgb(31\, 73\, 125)\;"><font face="Calibri" size="3">Continued growth from Brandon and area encouraged Sunrise Credit Union to plan for future expansion.&nbsp\; Working closely with developer\, engineers and contractors\, the plans formulated for what is now the new Sunrise Credit Union building located at 2305 Victoria Avenue.&nbsp\; This past month has seen both the administrative and branch offices move into the new premises with everyone under one roof.&nbsp\; The modern building features new services such as drive-thru and walk-up ATMS and safety deposit boxes combined with ease of access and ample parking -&nbsp\;a huge benefit for members and staff alike.&nbsp\; </font></span></p>\n\n<p style="margin: 0in 0in 0pt\;"><span style="color: rgb(31\, 73\, 125)\;"><font face="Calibri" size="3">&nbsp\;</font></span></p>\n\n<p style="margin: 0in 0in 0pt\;"><span style="color: rgb(31\, 73\, 125)\;"><font face="Calibri" size="3">With Grand Opening ceremonies&nbsp\;will&nbsp\;provide&nbsp\;tours\, appetizers and refreshments\, with the&nbsp\;ribbon cutting at 6:30 p.m. &nbsp\;&nbsp\;Sunrise Credit Union plans to continue with personalized\, professional services as a financial institution owned by the people it serves.&nbsp\; </font></span></p>\n<br />\nCome after work and enjoy this informal event. It&#39\;s a great networking opportunity to create new contacts and grow your business.
LOCATION:2305 Victoria Avenue
UID:e.1595.328
SEQUENCE:3
DTSTAMP:20260420T010655Z
URL:https://dev.brandonchamber.ca/events/details/business-after-5-sunrise-credit-union-09-17-2015-328
END:VEVENT

END:VCALENDAR
