BEGIN:VCALENDAR
VERSION:2.0
PRODID:-//ChamberMaster//Event Calendar 2.0//EN
METHOD:PUBLISH
X-PUBLISHED-TTL:P3D
REFRESH-INTERVAL:P3D
CALSCALE:GREGORIAN
BEGIN:VEVENT
DTSTART:20160204T230000Z
DTEND:20160205T010000Z
X-MICROSOFT-CDO-ALLDAYEVENT:FALSE
SUMMARY:Business After 5 - myITsource
DESCRIPTION:Join us with hosts myITsource at their renovated location for the Business After 5 event.\n\n\n\nEarlier in the fall\, myITsource launched their new logo and website as they recently rebranded themselves. The homegrown Brandon company revamped their brand to better reflect how their business has grown and how it's constantly changing alongside the ever-evolving technology industry. Formerly known as myitsource.ca and Franks's Computer & Sales\, they opened in 1998 and it was primarily an owner-run computer repair shop. The IT store has a large retail showroom which carries quality\, brand name computers\, accessories and digital printing solutions. \n\n\n\nmyITsource is proud to be locally owned and operated and celebrating 18 years of business in Brandon. They are proud to be the largest on-site tech service provider in Western Manitoba\, employing 25 of the best employees in the technology industry. Their new program\, Full Managed Services\, help ensures your business runs as smoothly as possible with secure\, reliable and efficient technology. They're committed to being your dedicated tech department\, staying on top of the trends\, so you don't have to.  myITsource clients are treated with respect in a prompt\, professional manner. They support everything they sell and work hard to meet and exceed all your technology needs and objectives. \n\n \n\nYour most trusted IT support specialists.\n\n\nCome after work and enjoy this complementary\, informal event. It's a great networking opportunity to create new contacts and grow your business.\n\nNo RSVP required\, come and go as your schedule allows\; hope to see you there!
X-ALT-DESC;FMTTYPE=text/html:Join us with hosts&nbsp\;<a href="http://www.myitsource.com/">myITsource</a> at their renovated&nbsp\;location for&nbsp\;the Business After 5 event.\n\n<p style="margin: 0in 0in 0pt\;"><br />\n<em><span style="font-size: 16px\;"><span style="font-family: times new roman\;">Earlier in the fall\, myITsource launched&nbsp\;<span lang="EN" style="color: rgb(51\, 51\, 51)\; mso-fareast-font-family: &quot\;Times New Roman&quot\;\; mso-ansi-language: EN\; mso-fareast-language: EN-US\; mso-bidi-language: AR-SA\;">their new logo and website as they recently rebranded themselves. The h</span><span lang="EN" style="color: rgb(51\, 51\, 51)\; mso-ansi-language: EN\;">omegrown Brandon company revamped their brand to better reflect how their business has grown and how it&rsquo\;s constantly changing alongside the ever-evolving technology industry. </span><span lang="EN" style="color: rgb(51\, 51\, 51)\; mso-ansi-language: EN\;">Formerly known as myitsource.ca and Franks&rsquo\;s Computer &amp\; Sales\, they opened in 1998 and it was </span><span lang="EN" style="color: rgb(51\, 51\, 51)\; mso-fareast-font-family: &quot\;Times New Roman&quot\;\; mso-ansi-language: EN\; mso-fareast-language: EN-US\; mso-bidi-language: AR-SA\;">primarily an owner-run computer repair shop. </span><span lang="EN" style="color: rgb(51\, 51\, 51)\; mso-ansi-language: EN\;">The IT store has a large retail showroom which carries quality\, brand name computers\, accessories and digital printing solutions. </span></span></span></em></p>\n\n<p style="margin: 0in 0in 0pt\;"><span lang="EN" style="color: rgb(51\, 51\, 51)\; font-family: &quot\;Arial&quot\;\,&quot\;sans-serif&quot\;\; font-size: 10pt\; mso-ansi-language: EN\;"><o:p></o:p></span></p>\n\n<p style="margin: 0in 0in 0pt\;"><em><span style="font-size: medium\;"><span style="font-family: times new roman\;">myITsource is proud to be locally owned and operated and&nbsp\;celebrating 18 years of business in Brandon. They are proud to be the largest on-site tech service provider in Western Manitoba\,&nbsp\;employing 25 of the best employees in the technology industry.&nbsp\;</span></span><span style="font-size: medium\;"><span style="font-family: times new roman\;">Their new program\, Full Managed Services\, help ensures your business runs as smoothly as possible with secure\, reliable and efficient technology. They&rsquo\;re committed to being your dedicated tech department\, staying on top of the trends\, so you don&rsquo\;t have to.&nbsp\;&nbsp\;</span></span><span style="font-size: medium\;"><span style="font-family: times new roman\;">myITsource clients are treated with respect in a prompt\, professional manner. They support everything they sell and&nbsp\;work hard to meet and exceed all your technology needs and objectives.&nbsp\;</span></span><br />\n&nbsp\;<br />\n<span style="font-size: medium\;"><span style="font-family: times new roman\;">Your most trusted IT support specialists.</span></span></em></p>\n<br />\nCome after work and enjoy this complementary\,&nbsp\;informal event. It&#39\;s a great networking opportunity to create new contacts and grow your business.<br />\nNo RSVP required\, come and go as your schedule allows\; hope to see you there!
LOCATION:1535 Pacific Avenue
UID:e.1595.404
SEQUENCE:3
DTSTAMP:20260419T182741Z
URL:https://dev.brandonchamber.ca/events/details/business-after-5-myitsource-02-04-2016-404
END:VEVENT

END:VCALENDAR
