BEGIN:VCALENDAR
VERSION:2.0
PRODID:-//ChamberMaster//Event Calendar 2.0//EN
METHOD:PUBLISH
X-PUBLISHED-TTL:P3D
REFRESH-INTERVAL:P3D
CALSCALE:GREGORIAN
BEGIN:VEVENT
DTSTART:20151119T230000Z
DTEND:20151120T010000Z
X-MICROSOFT-CDO-ALLDAYEVENT:FALSE
SUMMARY:Business After 5 - Innovation for Tomorrow Reception
DESCRIPTION:Come after work and enjoy this informal networking event. It's a great opportunity to create new contacts and grow your business.\n\n\n\nThe Innovation for Tomorrow Reception will feature local innovation displays like the drone technology that will be used in the School of Agriculture & Environment classroom and the 3D printing equipment from Brandon University's Innovation Zone that aid businesses and students to increase the adoption of new technologies\, as well as the development and commercialization of new products. The event will also feature Manitoba success story: the Warwaruk brothers\, Chris & Lawrence and their value-added enterprise: Farmery Estate Brewery.\n\n \nThis event is related to the Harvesting Value Conference on opportunities in value added agriculture\, which will bring the Westman community together to explore and encourage collaboration between Manitoba entrepreneurs\, businesses\, researchers and investors to expand the processing of Manitoba agricultural products.
X-ALT-DESC;FMTTYPE=text/html:<br />\n<span style="font-size: 14px\;"><span style="font-family: arial\;"><span style="color: rgb(0\, 0\, 0)\;">Come after work and enjoy this informal networking&nbsp\;event. It&#39\;s a great opportunity to create new contacts and grow your business.<br />\n<br />\nThe Innovation for Tomorrow Reception will feature local innovation displays like the drone technology that will be used in the School of Agriculture &amp\; Environment classroom and the 3D printing equipment from Brandon University&#39\;s Innovation Zone that aid businesses and students to increase the adoption of new technologies\, as well as the development and commercialization of new products. The event will also feature Manitoba success story: the Warwaruk brothers\, Chris &amp\; Lawrence and their value-added enterprise: Farmery Estate Brewery.</span></span></span><br />\n&nbsp\;\n<div><span style="font-size: 14px\;"><span style="font-family: arial\;"><span style="color: rgb(0\, 0\, 0)\;">This event is related to the <span style="font-size: 16px\;"><strong><a href="http://brandonchamberofcommerce.chambermaster.com/events/details/harvesting-value-exploring-opportunities-in-value-added-agriculture-391"><font color="#0066cc">Harvesting Value</font></a></strong> </span>Conference&nbsp\;on opportunities in value added agriculture\, which will bring the Westman community together to explore and encourage collaboration between Manitoba entrepreneurs\, businesses\, researchers and investors to expand the processing of Manitoba agricultural products.&nbsp\;</span></span></span></div>\n
LOCATION:Keystone Centre\, UCT Pavilion 1175-18th Street Brandon MB
UID:e.1595.393
SEQUENCE:3
DTSTAMP:20260419T222658Z
URL:https://dev.brandonchamber.ca/events/details/business-after-5-innovation-for-tomorrow-reception-11-19-2015-393
END:VEVENT

END:VCALENDAR
