BEGIN:VCALENDAR
VERSION:2.0
PRODID:-//ChamberMaster//Event Calendar 2.0//EN
METHOD:PUBLISH
X-PUBLISHED-TTL:P3D
REFRESH-INTERVAL:P3D
CALSCALE:GREGORIAN
BEGIN:VEVENT
DTSTART:20151022T220000Z
DTEND:20151023T000000Z
X-MICROSOFT-CDO-ALLDAYEVENT:FALSE
SUMMARY:Business After 5 - Daughter On Call
DESCRIPTION:Join us with hosts Daughter On Call at their new location for the Business After 5 event.\n\n\n\nDaughter On Call is a private home care company that was founded in  2011 by Gail Freeman-Campbell who is a Nurse as well as CEO & President of the company.  Daughter On Call recognizes that each person is different and therefore provides personal and individualized care to each client\, whether it be medications\, bathing\, transportation to appointments or vacation companions.  Their staff are highly skilled\, reliable and friendly.  Daughter On Call specializes in Alzheimer\, dementia and palliative care\, providing extra education in these areas to staff\, clients\, family and the community at large. \n\n\n\nThey embrace technology through a specialized software system that allows transparency of care to their clients\, by allowing family access via their home computers and smart phones.  A telephony system allows accuracy in billing as staff use it to log in and out of their clients homes.  This innovative technology allows family members\, who live a distance away from their loved ones\, the reassurance that expert care is being given at all times.  Daughter On Call is leading the change towards better care for our senior population\, one smile and  hug at a time!\n\n\nCome after work and enjoy this informal event. It's a great networking opportunity to create new contacts and grow your business.
X-ALT-DESC;FMTTYPE=text/html:Join us with hosts&nbsp\;<a href="http://www.homecarebrandon.com/">Daughter On Call </a>at their new location for&nbsp\;the Business After 5 event.\n\n<p style="margin: 0in 0in 0pt\;"><br />\n<span style="font-size: 11pt\;"><span style="font-family: calibri\,sans-serif\;"><span style="color: rgb(31\, 73\, 125)\;">Daughter On Call is a private home care company that was founded in&nbsp\; 2011 by Gail Freeman-Campbell who is a Nurse as well as CEO &amp\; President of the company.&nbsp\; Daughter On Call recognizes that each person is different and therefore provides personal and individualized care to each client\, whether it be medications\, bathing\, transportation to appointments or vacation companions.&nbsp\; Their staff are highly skilled\, reliable and friendly.&nbsp\; Daughter On Call specializes in Alzheimer\, dementia and palliative care\, providing extra education in these areas to staff\, clients\, family and the community at large.&nbsp\;<br />\n<br />\nThey embrace technology through a specialized software system that allows transparency of care to their clients\, by allowing family access via their home computers and smart phones.&nbsp\; A telephony system allows accuracy in billing as staff use it to log in and out of their clients homes.&nbsp\; This innovative technology allows family members\, who live a distance away from their loved ones\, the reassurance that expert care is being given at all times.&nbsp\; Daughter On Call is leading the change towards better care for our senior population\, one smile and &nbsp\;hug at a time!</span></span></span></p>\n<br />\nCome after work and enjoy this informal event. It&#39\;s a great networking opportunity to create new contacts and grow your business.
LOCATION:Unit B 2412 Victoria Avenue
UID:e.1595.387
SEQUENCE:3
DTSTAMP:20260419T234437Z
URL:https://dev.brandonchamber.ca/events/details/business-after-5-daughter-on-call-10-22-2015-387
END:VEVENT

END:VCALENDAR
