BEGIN:VCALENDAR
VERSION:2.0
PRODID:-//ChamberMaster//Event Calendar 2.0//EN
METHOD:PUBLISH
X-PUBLISHED-TTL:P3D
REFRESH-INTERVAL:P3D
CALSCALE:GREGORIAN
BEGIN:VEVENT
DTSTART:20141113T230000Z
DTEND:20141114T010000Z
X-MICROSOFT-CDO-ALLDAYEVENT:FALSE
SUMMARY:Business After 5 - Brandon University
DESCRIPTION:Join us with hosts Brandon University at our Business After 5 event.\n\n\n\n(more information to follow)\n\n\n\nCome after work and enjoy this informal event. It's a great networking opportunity to create new contacts and grow your business.
X-ALT-DESC;FMTTYPE=text/html:Join us with hosts <a href="http://brandonchamberofcommerce.chambermaster.com/list/member/brandon-university-brandon-118">Brandon University</a> at our Business After 5 event.<br />\n<br />\n(more information to follow)<br />\n<br />\nCome after work and enjoy this informal event. It&#39\;s a great networking opportunity to create new contacts and grow your business.
LOCATION:270 - 18th Street
UID:e.1595.114
SEQUENCE:3
DTSTAMP:20260420T225118Z
URL:https://dev.brandonchamber.ca/events/details/business-after-5-brandon-university-11-13-2014-114
END:VEVENT

END:VCALENDAR
