BEGIN:VCALENDAR
VERSION:2.0
PRODID:-//ChamberMaster//Event Calendar 2.0//EN
METHOD:PUBLISH
X-PUBLISHED-TTL:P3D
REFRESH-INTERVAL:P3D
CALSCALE:GREGORIAN
BEGIN:VEVENT
DTSTART:20140528T220000Z
DTEND:20140529T000000Z
X-MICROSOFT-CDO-ALLDAYEVENT:FALSE
SUMMARY:Business After 5 - Brandon Regional Health Centre Foundation - Murray House
DESCRIPTION:Join us along with the Brandon Regional Health Centre Foundation as we celebrate the completion of BRHC Foundation's "A Sense of Home" Campaign for the Grand opening of the Murray House cancer treatment residence.\n\n\n\nThe Foundation celebrates the completion of the Murray House and invites you to see inside the house "built by the community ... for the community"  \n\n\n\n\n\nFood generously sponsored by Leon's Furniture Superstore and Leeching Printing.
X-ALT-DESC;FMTTYPE=text/html:Join us along with the Brandon Regional Health Centre Foundation as we celebrate the completion of BRHC Foundation&#39\;s&nbsp\;&quot\;A Sense of Home&quot\; Campaign for the Grand opening of the Murray House cancer treatment residence.<br />\n<br />\nThe Foundation&nbsp\;celebrates the completion of the Murray House and invites you to see inside the house &quot\;built by the community ... for the community&quot\;&nbsp\;&nbsp\;<br />\n<br />\n<br />\nFood generously sponsored by Leon&#39\;s Furniture Superstore and Leeching Printing.
LOCATION:521 Frederick St
UID:e.1595.92
SEQUENCE:3
DTSTAMP:20260421T071104Z
URL:https://dev.brandonchamber.ca/events/details/business-after-5-brandon-regional-health-centre-foundation-murray-house-05-28-2014-92
END:VEVENT

END:VCALENDAR
