BEGIN:VCALENDAR
VERSION:2.0
PRODID:-//ChamberMaster//Event Calendar 2.0//EN
METHOD:PUBLISH
X-PUBLISHED-TTL:P3D
REFRESH-INTERVAL:P3D
CALSCALE:GREGORIAN
BEGIN:VEVENT
DTSTART:20141023T220000Z
DTEND:20141024T000000Z
X-MICROSOFT-CDO-ALLDAYEVENT:FALSE
SUMMARY:Business After 5 - Brandon Area REALTORS
DESCRIPTION:Network among members with hosts Brandon Area REALTORS  for Business After 5 at their new location.\n\n\n\nThe Brandon Real Estate Board has a new name and a new home. The 200-member not-for-profit local regulatory organization changed its name to Brandon Area REALTORS to reflect its entire membership\, not just the board of directors.\n\n\n\nCome after work and enjoy the informal event with refreshments\, socializing and a chance to win a door prize! It's a great networking opportunity to create new business contacts and grow your business.
X-ALT-DESC;FMTTYPE=text/html:Network among members with hosts <a href="http://brandonchamberofcommerce.chambermaster.com/list/member/brandon-area-realtors-99">Brandon Area REALTORS&nbsp\;</a> for Business After 5 at their new location.<br />\n<br />\nThe Brandon Real Estate Board has a new name and a new home. The 200-member not-for-profit local regulatory organization changed its name to <strong>Brandon Area REALTORS</strong> to reflect its entire membership\, not just the board of directors.<br />\n<br />\nCome after work and enjoy the informal event with refreshments\, socializing and a chance to win a door prize! It&#39\;s a great networking opportunity to create new business contacts and grow your business.
LOCATION:312 - 10th Street Downtown
UID:e.1595.113
SEQUENCE:3
DTSTAMP:20260421T001706Z
URL:https://dev.brandonchamber.ca/events/details/business-after-5-brandon-area-realtors-10-23-2014-113
END:VEVENT

END:VCALENDAR
