BEGIN:VCALENDAR
VERSION:2.0
PRODID:-//ChamberMaster//Event Calendar 2.0//EN
METHOD:PUBLISH
X-PUBLISHED-TTL:P3D
REFRESH-INTERVAL:P3D
CALSCALE:GREGORIAN
BEGIN:VEVENT
DTSTART:20140424T220000Z
DTEND:20140425T000000Z
X-MICROSOFT-CDO-ALLDAYEVENT:FALSE
SUMMARY:Business After 5 - Alternative Landscaping's New Location
DESCRIPTION:Join us for a Business After 5 networking event at Alternative Landscaping's NEW LOCATION at the S.E. corner of 34th & Patricia!\n\n\n\nAlternative Landscaping Ltd. is a locally owned business that provides a full range of landscape services from design to installation & excavation\, and retail services for all the DIY in the Westman and surrounding area. The company was established 16 years ago in March 1998 by Chris and Karin Griffin in Brandon\, expanding to the Clear Lake area in 2007.  \n\n \n\nAlternative Choice Garden Center opened in 2013 on the S.E. corner of 34th & Patricia. To serve clients better\, their entire operation was moved to join the Alternative Choice Garden Center location. They truly are a one stop shop for all your green material needs.\n\n\n\nCome and see their new facilities while networking with colleagues and friends!
X-ALT-DESC;FMTTYPE=text/html:<span style="font-family: verdana\;">Join us for a Business After 5 networking event at Alternative Landscaping&#39\;s NEW LOCATION at the S.E. corner of 34th &amp\; Patricia!</span><br />\n<br />\n<span style="font-size: 10pt\;"><span style="font-family: verdana\,sans-serif\;">Alternative Landscaping Ltd. is a locally owned business that provides a full range of landscape services from design to installation &amp\; excavation\, and retail services for all the DIY in the Westman and surrounding area.&nbsp\;The company was established 16 years ago in March 1998 by Chris and Karin Griffin in Brandon\, expanding to the Clear Lake area in 2007.&nbsp\; </span></span><br />\n&nbsp\;<br />\n<span style="font-size: 10pt\;"><span style="font-family: verdana\,sans-serif\;">Alternative Choice Garden Center opened in 2013 on the S.E. corner of 34<sup>th</sup> &amp\; Patricia.&nbsp\;To serve clients better\, their entire operation was moved to join the Alternative Choice Garden Center location. They truly are a one stop shop for all your green material needs.</span></span><br />\n<br />\nCome and see their new facilities&nbsp\;while networking with colleagues and friends!<br />\n<br />\n<br />\n&nbsp\;
LOCATION:South East corner of 34th St & Patricia Ave
UID:e.1595.91
SEQUENCE:3
DTSTAMP:20260421T083958Z
URL:https://dev.brandonchamber.ca/events/details/business-after-5-alternative-landscaping-s-new-location-04-24-2014-91
END:VEVENT

END:VCALENDAR
