BEGIN:VCALENDAR
VERSION:2.0
PRODID:-//ChamberMaster//Event Calendar 2.0//EN
METHOD:PUBLISH
X-PUBLISHED-TTL:P3D
REFRESH-INTERVAL:P3D
CALSCALE:GREGORIAN
BEGIN:VEVENT
DTSTART:20151103T230000Z
DTEND:20151104T003000Z
X-MICROSOFT-CDO-ALLDAYEVENT:FALSE
SUMMARY:Building a Sustainable City - Starting with Your Own Home
DESCRIPTION:The City of Brandon Planning & Building Safety Department is hosting an open house for developers\, contractors\, and homeowners who are interested in not only being green but saving some green!\n\nWorking together we can build a truly livable city for many generations to come.\n\nS p e c i a l S p e a k e r : " B u i l t G r e e n C a n a d a "\n\nWhat are the benefits of building sustainably? What is a certified home? \n\nHow is starting with your home contribute to building a sustainable city?\n\nBuilt Green Canada will provide an overview of the organization\, its programs\, how to obtain a BUILT GREEN  certification for your home\, and how working together as citizens\, builders\, developers\, and the municipality\, we can build a truly liveable city for many generations to come.
X-ALT-DESC;FMTTYPE=text/html:<p>The City of Brandon Planning &amp\; Building Safety Department is hosting an open house for developers\, contractors\, and homeowners who are interested in not only being green but saving some green!</p>\n\n<p>Working together we can build a truly livable city for many generations to come.</p>\n\n<p>S p e c i a l S p e a k e r : &quot\; B u i l t G r e e n C a n a d a &quot\;</p>\n\n<p><strong><span style="font-family: calibri\,sans-serif\;">What are the benefits of building sustainably? What is a certified home? </span></strong></p>\n\n<p><strong><span style="font-family: calibri\,sans-serif\;">How is starting with your home contribute to building a sustainable city?</span></strong></p>\n\n<p><span style="font-family: calibri\,sans-serif\;">Built Green Canada will provide an overview of the organization\, its programs\, how to obtain a BUILT GREEN&reg\; certification for your home\, and how working together as citizens\, builders\, developers\, and the municipality\, we can build a truly liveable city for many generations to come. </span></p>\n
LOCATION:638 Princess Avenue - in the Brandon Design Studio space of the Cultural Resource Centre at the A.R. McDiarmid Civic Complex (east entrance)
UID:e.1595.396
SEQUENCE:3
DTSTAMP:20260419T222920Z
URL:https://dev.brandonchamber.ca/events/details/building-a-sustainable-city-starting-with-your-own-home-11-03-2015-396
END:VEVENT

END:VCALENDAR
