BEGIN:VCALENDAR
VERSION:2.0
PRODID:-//ChamberMaster//Event Calendar 2.0//EN
METHOD:PUBLISH
X-PUBLISHED-TTL:P3D
REFRESH-INTERVAL:P3D
CALSCALE:GREGORIAN
BEGIN:VEVENT
DTSTART:20150417T000000Z
DTEND:20150417T050000Z
X-MICROSOFT-CDO-ALLDAYEVENT:FALSE
SUMMARY:BRHC Foundation: Vintage Vegas Charity Fundraiser
DESCRIPTION:The Brandon Regional Health Centre Foundation presents: Vintage Vegas Charity Fundraiser\n\n\n\nThere will be over $10\,000 in prizes to be won - Including the Door Prize of a WestJet trip for 2.\n\n\n\nAll proceeds in support of BRHC Foundation Room for Renewal
X-ALT-DESC;FMTTYPE=text/html:<br>\n<span style="font-family:times new roman\;"><em>The Brandon Regional Health Centre Foundation presents:</em></span> <span style="font-size:24px\;"><span style="color: rgb(178\, 34\, 34)\;"><span style="font-family: times new roman\;"><em><strong>Vintage Vegas Charity Fundraiser</strong></em></span></span></span><br>\n<br>\nThere will be over $10\,000 in prizes to be won - Including the Door Prize of a WestJet trip for 2.<br>\n<br>\nAll proceeds in support of BRHC Foundation Room for Renewal
LOCATION:Victoria Inn Imperial Ballroom
UID:e.1595.277
SEQUENCE:3
DTSTAMP:20260422T085219Z
URL:https://dev.brandonchamber.ca/events/details/brhc-foundation-vintage-vegas-charity-fundraiser-04-16-2015-277
END:VEVENT

END:VCALENDAR
