BEGIN:VCALENDAR
VERSION:2.0
PRODID:-//ChamberMaster//Event Calendar 2.0//EN
METHOD:PUBLISH
X-PUBLISHED-TTL:P3D
REFRESH-INTERVAL:P3D
CALSCALE:GREGORIAN
BEGIN:VEVENT
DTSTART:20141128T130000Z
DTEND:20141128T160000Z
X-MICROSOFT-CDO-ALLDAYEVENT:FALSE
SUMMARY:BRHC Foundation Holiday Pancake Breakfast Fundraiser
DESCRIPTION:BRHC Foundation Holiday Pancake Breakfast Fundraiser
X-ALT-DESC;FMTTYPE=text/html:<span style="color: rgb(0\, 0\, 0)\;">BRHC Foundation Holiday Pancake Breakfast Fundraiser</span>
LOCATION:Nurses Residence Gymnasium\, Brandon Regional Health Centre
UID:e.1595.176
SEQUENCE:3
DTSTAMP:20260421T013927Z
URL:https://dev.brandonchamber.ca/events/details/brhc-foundation-holiday-pancake-breakfast-fundraiser-11-28-2014-176
END:VEVENT

END:VCALENDAR
