BEGIN:VCALENDAR
VERSION:2.0
PRODID:-//ChamberMaster//Event Calendar 2.0//EN
METHOD:PUBLISH
X-PUBLISHED-TTL:P3D
REFRESH-INTERVAL:P3D
CALSCALE:GREGORIAN
BEGIN:VEVENT
DTSTART;VALUE=DATE:20150512
DTEND;VALUE=DATE:20150513
TRANSP:TRANSPARENT
X-MICROSOFT-CDO-ALLDAYEVENT:TRUE
SUMMARY:Brandon Riverbank Inc. - Rain Barrel Fundraiser!
DESCRIPTION:In partnership with RainBarrel.ca\, we are holding a Rain Barrel Sale to raise funds for Brandon Riverbank Inc.! \n\n\n\nWhat can you do with these barrels?\n\n- get a great recycled rain barrel for your home and garden\; \n\n- capture rain and save on water bills\;\n\n- feed your plants rain water instead of chlorine and fluoride\;\n\n- take better care of the environment AND sewer systems\;\n\n- support Brandon Riverbank Inc. in recovering from 2 record-setting floods within 3 years.\n\n- AND show your Brandon spirit!\n\n \n\nEach 180 ? 220 L (45 ? 55 gallon) rain barrel comes fully equipped with a leaf and mosquito filter basket\, an overflow adaptor that permits multiple barrels to be connected in series\, 1.2m of overflow hose and a spigot that attaches directly to a garden hose.\n\n \n\nThe price is only $60 per barrel and $10 from each sale will support Brandon Riverbank Inc. \n\nPay online or order for cash upon delivery atwww.RainBarrel.ca/brandon\n\n \n\nCall Whitney at 204-729-2129 for information not available on the website or\n\nif you need assistance with online ordering.\n\n \n\nOrder online at www.RainBarrel.ca/brandon by May 25th\, 2015for delivery on June 5th at Riverbank Discovery Centre
X-ALT-DESC;FMTTYPE=text/html:<p><strong>In partnership with RainBarrel.ca\, we are holding a Rain Barrel Sale to raise funds for Brandon Riverbank Inc.!</strong>&nbsp\;<br />\n<br />\n<strong><em>What can you do with these barrels?</em></strong><br />\n<span style="font-family: arial\,sans-serif\;"><span style="font-size: 10pt\;">- </span></span>get a great recycled rain barrel for your home and garden\;<span style="line-height: 1.6\;">&nbsp\;</span><br />\n<span style="line-height: 1.6\; font-family: arial\,sans-serif\;"><span style="font-size: 10pt\;">- </span></span><span style="line-height: 1.6\;">capture rain and save on water bills\;</span><br />\n<span style="line-height: 1.6\; font-family: arial\,sans-serif\;"><span style="font-size: 10pt\;">- </span></span><span style="line-height: 1.6\;">feed your plants rain water instead of chlorine and fluoride\;</span><br />\n<span style="line-height: 1.6\; font-family: arial\,sans-serif\;"><span style="font-size: 10pt\;">- </span></span><span style="line-height: 1.6\;">take better care of the environment AND sewer systems\;</span><br />\n<span style="line-height: 1.6\; font-family: arial\,sans-serif\;"><span style="font-size: 10pt\;">- </span></span><span style="line-height: 1.6\;">support Brandon Riverbank Inc. in recovering from 2 record-setting floods within 3 years.</span><br />\n<span style="line-height: 1.6\; font-family: arial\,sans-serif\;"><span style="font-size: 10pt\;">- </span></span><strong style="line-height: 1.6\;">AND</strong><span style="line-height: 1.6\;">&nbsp\;show your Brandon spirit!</span></p>\n\n<p>&nbsp\;<br />\nEach 180 ? 220 L (45 ? 55 gallon) rain barrel comes fully equipped with a leaf and mosquito filter basket\, an overflow adaptor that permits multiple barrels to be connected in series\, 1.2m of overflow hose and a spigot that attaches directly to a garden hose.<br />\n&nbsp\;<br />\n<strong>The price is only $60 per barrel and $10 from each sale will support Brandon Riverbank Inc.&nbsp\;</strong><br />\n<strong>Pay online or order for cash upon delivery at<a href="http://www.rainbarrel.ca/brandon" style="color: rgb(71\, 71\, 71)\; text-decoration: none\; cursor: pointer\; box-sizing: border-box\;">www.RainBarrel.ca/brandon</a></strong><br />\n&nbsp\;<br />\n<strong>Call Whitney at 204-729-2129</strong>&nbsp\;for information not available on the website or<br />\nif you need assistance with online ordering.<br />\n&nbsp\;<br />\nOrder online at&nbsp\;<a href="http://www.rainbarrel.ca/brandon" style="color: rgb(71\, 71\, 71)\; text-decoration: none\; cursor: pointer\; box-sizing: border-box\;">www.RainBarrel.ca/brandon</a>&nbsp\;by&nbsp\;<strong>May 25<sup>th</sup>\, </strong><strong>2015</strong>for delivery on&nbsp\;<strong>June 5<sup>th</sup></strong>&nbsp\;at&nbsp\;<strong>Riverbank Discovery Centre</strong></p>\n
LOCATION:Riverbank Discovery Centre - #1-545 Conservation Drive
UID:e.1595.302
SEQUENCE:3
DTSTAMP:20260420T064847Z
URL:https://dev.brandonchamber.ca/events/details/brandon-riverbank-inc-rain-barrel-fundraiser-05-12-2015-302
END:VEVENT

END:VCALENDAR
