BEGIN:VCALENDAR
VERSION:2.0
PRODID:-//ChamberMaster//Event Calendar 2.0//EN
METHOD:PUBLISH
X-PUBLISHED-TTL:P3D
REFRESH-INTERVAL:P3D
CALSCALE:GREGORIAN
BEGIN:VEVENT
DTSTART;VALUE=DATE:20150613
DTEND;VALUE=DATE:20150614
TRANSP:TRANSPARENT
X-MICROSOFT-CDO-ALLDAYEVENT:TRUE
SUMMARY:Brandon Relay For Life
DESCRIPTION:Join in the fight against cancer by participating in the Brandon Relay For Life! Saturday\, June 13th from 6PM to 2AM at Brandon's Community Sportsplex. Make a difference by participating in Relay and help save lives through ground-breaking research and support those living with cancer. Show your team spirit\, challenge your friends\, co-workers\, family and competing businesses! Remember loved ones\, this inspiring event makes a real impact for everyone in your lift who has been touched by cancer. We need your support by registering a team or joining an existing team...come on Brandon\, show your support!\n\nFor more information call 204.571.2802 or email relayforlifebrandon@hotmail.ca
X-ALT-DESC;FMTTYPE=text/html:Join in the fight against cancer by participating in the Brandon Relay For Life! Saturday\, June 13th from 6PM to 2AM at Brandon&#39\;s Community Sportsplex. Make a difference by participating in Relay and help save lives through ground-breaking research and support those living with cancer. Show your team spirit\, challenge your friends\, co-workers\, family and competing businesses! Remember loved ones\, this inspiring event makes a real impact for everyone in your lift who has been touched by cancer. We need your support by registering a team or joining an existing team...come on Brandon\, show your support!<br />\nFor more information call 204.571.2802 or email <a href="mailto:relayforlifebrandon@hotmail.ca">relayforlifebrandon@hotmail.ca</a>
LOCATION:Brandon's Community Sportsplex
UID:e.1595.318
SEQUENCE:3
DTSTAMP:20260420T052840Z
URL:https://dev.brandonchamber.ca/events/details/brandon-relay-for-life-06-13-2015-318
END:VEVENT

END:VCALENDAR
