BEGIN:VCALENDAR
VERSION:2.0
PRODID:-//ChamberMaster//Event Calendar 2.0//EN
METHOD:PUBLISH
X-PUBLISHED-TTL:P3D
REFRESH-INTERVAL:P3D
CALSCALE:GREGORIAN
BEGIN:VEVENT
DTSTART;VALUE=DATE:20160506
DTEND;VALUE=DATE:20160509
TRANSP:TRANSPARENT
X-MICROSOFT-CDO-ALLDAYEVENT:TRUE
SUMMARY:BRANDON PET EXPO
DESCRIPTION:You won't find any bovines or broncos at the Keystone Centre's newest animal show this spring. Instead\, the local event centre is going to be full of cats\, dogs\, reptiles and every domestic critter in between for the inaugural Brandon Pet Expo on May 7-8.\n\n\n\nThe event is billed as the first domestic pet show in southwestern Manitoba and will include educational seminars\, demonstrations\, a breed parade and trade show.
X-ALT-DESC;FMTTYPE=text/html:You won&rsquo\;t find any bovines or broncos at the Keystone Centre&rsquo\;s newest animal show this spring. Instead\, the local event centre is going to be full of cats\, dogs\, reptiles and every domestic critter in between for the inaugural Brandon Pet Expo on May 7-8.<br />\n<br />\nThe event is billed as the first domestic pet show in southwestern Manitoba and will include educational seminars\, demonstrations\, a breed parade and trade show.
LOCATION:Keystone Centre
UID:e.1595.415
SEQUENCE:3
DTSTAMP:20260419T143244Z
URL:https://dev.brandonchamber.ca/events/details/brandon-pet-expo-05-06-2016-415
END:VEVENT

END:VCALENDAR
