BEGIN:VCALENDAR
VERSION:2.0
PRODID:-//ChamberMaster//Event Calendar 2.0//EN
METHOD:PUBLISH
X-PUBLISHED-TTL:P3D
REFRESH-INTERVAL:P3D
CALSCALE:GREGORIAN
BEGIN:VEVENT
DTSTART:20150429T223000Z
DTEND:20150430T180000Z
X-MICROSOFT-CDO-ALLDAYEVENT:FALSE
SUMMARY:Brandon Marketing Fest 2015
DESCRIPTION:The Brandon Chamber of Commerce is pleased to present Manitoba Marketing Networks "Marketing Fest 2015" along with Entrepreneurship Manitoba\, Economic Development Brandon\, CKLQ & Star FM. This 5-part series consists of  topics covered over 2 days. Each session will build on the previous session. \n\n\n\n1. Enhance Your Business Brand with Elizabeth Mithcell. Successfully build a brand that sends the right message to the right customers. \n\n\n\n2. Get the message out! with Mark Howe & Laurie Barkman. Introduce Easy to adopt strategies to enhance your marketing effectiveness and achieve successful results. \n\n\n\n3. Effectively Incorporate Social Media with Roger Miranda. Facebook\, Twitter & LinkedIn! Learn how to incorporate these social media tools into your marketing strategy. \n\n\n\n4. Sales and Marketing with E. Mitchell\, R. Miranda & M. Howe. This session will focus on strategies for increasing your sales\, identifying potential opportunities and making more money from your current business operations. \n\n\n\n5. Build Customer Loyalty and Increase with Laurie Barkman. Communicate and engage with your customers to refer new customers and increase repeat sales. \n\n\n\nSponsored by: The Brandon Chamber of Commerce\, Entrepreneurship Manitoba\, Economic Development Brandon\, Manitoba Marketing Network\, CKLQ & StarFM
X-ALT-DESC;FMTTYPE=text/html:<span style="font-size: 14px\;"><span style="font-family: tahoma\;"><span style="background: white\; mso-fareast-font-family: &quot\;Times New Roman&quot\;\; mso-ansi-language: EN-US\; mso-fareast-language: EN-US\; mso-bidi-language: AR-SA\;"><font color="#000000">The Brandon Chamber of Commerce is pleased to present Manitoba Marketing Networks &ldquo\;Marketing Fest 2015&rdquo\; along with Entrepreneurship Manitoba\, Economic Development Brandon\, CKLQ &amp\; Star FM. This 5-part series consists of&nbsp\; topics covered over 2 days. Each session will build on the previous session. </font></span></span></span>\n\n<p><br />\n<strong><span style="font-size: 16pt\;"><span style="font-family: arial\,sans-serif\;">1. Enhance Your Business Brand&nbsp\;</span></span></strong><span style="font-size: 16px\;"><span style="font-family: arial\,sans-serif\;">with Elizabeth Mithcell. Successfully build a brand that sends the right message to the right customers.&nbsp\;</span></span><br />\n<br />\n<strong><span style="font-size: 16pt\;"><span style="font-family: arial\,sans-serif\;">2. Get the message out! </span></span></strong><span style="font-size: 11pt\;"><span style="font-family: arial\,sans-serif\;"><span style="font-size: 16px\;">with Mark Howe &amp\; Laurie Barkman</span>.&nbsp\;</span></span><span style="font-size: 16px\;"><span style="font-family: arial\,sans-serif\;">Introduce Easy to adopt strategies to enhance your marketing effectiveness and achieve successful results. </span></span><br />\n<br />\n<strong><span style="font-size: 16pt\;"><span style="font-family: arial\,sans-serif\;">3. Effectively Incorporate Social Media </span></span></strong><span style="font-size: 16px\;"><span style="font-family: arial\,sans-serif\;">with Roger Miranda. Facebook\, Twitter &amp\;&nbsp\;LinkedIn! Learn how to incorporate these social media tools into your marketing strategy. </span></span><br />\n<br />\n<strong><span style="font-size: 16pt\;"><span style="font-family: arial\,sans-serif\;">4. Sales and&nbsp\;Marketing </span></span></strong><span style="font-size: 16px\;"><span style="font-family: arial\,sans-serif\;">with E. Mitchell\, R. Miranda &amp\; M. Howe. This session will focus on strategies for increasing your sales\, identifying potential opportunities and making more money from your current business operations. </span></span><br />\n<br />\n<strong><span style="font-size: 16pt\;"><span style="font-family: arial\,sans-serif\;">5. Build Customer Loyalty and Increase</span></span></strong><span style="font-size: 11pt\;"><span style="font-family: arial\,sans-serif\;"> <span style="font-size: 16px\;">with Laurie Barkman. Communicate and engage with your customers to refer new customers and increase repeat sales. </span></span></span><br />\n<br />\n<span style="font-size: 14px\;"><span style="font-family: tahoma\;"><span style="background: white\; mso-fareast-font-family: &quot\;Times New Roman&quot\;\; mso-ansi-language: EN-US\; mso-fareast-language: EN-US\; mso-bidi-language: AR-SA\;"><font color="#000000">Sponsored by: The Brandon Chamber of Commerce\, Entrepreneurship Manitoba\, Economic Development Brandon\, Manitoba Marketing Network\, CKLQ &amp\; StarFM</font></span></span></span></p>\n
LOCATION:Royal Oak Inn & Suites 3130 Victoria Avenue
UID:e.1595.165
SEQUENCE:3
DTSTAMP:20260422T084733Z
URL:https://dev.brandonchamber.ca/events/details/brandon-marketing-fest-2015-04-29-2015-165
END:VEVENT

END:VCALENDAR
