BEGIN:VCALENDAR
VERSION:2.0
PRODID:-//ChamberMaster//Event Calendar 2.0//EN
METHOD:PUBLISH
X-PUBLISHED-TTL:P3D
REFRESH-INTERVAL:P3D
CALSCALE:GREGORIAN
BEGIN:VEVENT
DTSTART;VALUE=DATE:20130423
DTEND;VALUE=DATE:20130425
TRANSP:TRANSPARENT
X-MICROSOFT-CDO-ALLDAYEVENT:TRUE
SUMMARY:Brandon Marketing Conference 2013
DESCRIPTION:The Brandon Chamber of Commerce presents the Manitoba Marketing Network in Brandon for 2 days\, starting Tuesday\, April 23\, 2013 at 6:00 PM with informative Marketing Roundtable discussions\, with Wednesday\, April 24 consisting of a 9:30 AM Marketing Panel Discussion followed by a Keynote Luncheon Seminar at 11:30 AM. These sessions will be led by successful Business Experts\, and the Chamber is particularly excited to announce all three events are "NO COST" for Westman region businesses.\n\n	\n\n	#1. Marketing Done Speed-Dating Style (Tues\, April 23\, 2013\, 6:00 PM - 9:30 PM) Limited to the first 50 registrants\, snacks and beverages provided. \n\n	\n\n	#2. Marketing Panel Discussion (Wed\, April 24\, 2013\, 9:00 AM - 11:00 AM): Featuring a panel of 3-4 business experts. Bring your marketing questions and/or learn strategies from challenges that other business owners have faced. Refreshments provided.\n\n	\n\n	#3. Marketing Keynote Luncheon Presentation (Wed\, April 24\, 2013\, 11:30 AM - 1:00 PM): Come and hear this dynamic marketing presentation and lunch is on us!\n\n	 \n\n	Online registrations opens on Tuesday\, March 26\, 2013
X-ALT-DESC;FMTTYPE=text/html:<div style="text-align: center\;">\n	<span style="font-size:14px\;"><strong><span style="font-family: arial\;"><span style="background: none repeat scroll 0% 0% white\; font-weight: normal\;">The Brandon Chamber of Commerce</span> <span style="background: none repeat scroll 0% 0% white\; font-weight: normal\;">presents the</span> <span style="background: none repeat scroll 0% 0% white\;">Manitoba Marketing Network</span> <span style="background: none repeat scroll 0% 0% white\; font-weight: normal\;">in Brandon&nbsp\;for</span> <span style="background: none repeat scroll 0% 0% white\;">2 days</span><span style="background: none repeat scroll 0% 0% white\; font-weight: normal\;">\, starting Tuesday\, April 23\, 2013 at 6:00 PM with&nbsp\;informative Marketing Roundtable discussions\, with&nbsp\;Wednesday\, April 24 consisting of&nbsp\;a 9:30 AM Marketing Panel Discussion followed by a Keynote Luncheon Seminar at 11:30 AM. These sessions will be led by successful Business Experts\, and the Chamber is particularly excited to announce all three events are</span> <span style="background: none repeat scroll 0% 0% white\; font-weight: normal\;">&quot\;</span><span style="background: none repeat scroll 0% 0% white\;">NO COST</span><span style="background: none repeat scroll 0% 0% white\; font-weight: normal\;">&quot\;</span> <span style="background: none repeat scroll 0% 0% white\; font-weight: normal\;">for Westman region&nbsp\;businesses.</span></span></strong></span></div>\n<p>\n	<br />\n	<span style="font-size:14px\;"><strong><span style="font-family: arial\;"><span style="background: none repeat scroll 0% 0% white\;">#1. </span><span style="background: none repeat scroll 0% 0% white\; font-weight: normal\;">Marketing Done Speed-Dating Style (Tues\, April 23\, 2013\, 6:00 PM - 9:30 PM</span><span style="background: none repeat scroll 0% 0% white\;">) Limited to the first&nbsp\;50 registrants\, snacks and beverages provided. </span><br />\n	<br />\n	<span style="background: none repeat scroll 0% 0% white\;">#2. </span><span style="background: none repeat scroll 0% 0% white\; font-weight: normal\;">Marketing Panel Discussion (Wed\, April 24\, 2013\, 9:00 AM - 11:00 AM):</span><span style="background: none repeat scroll 0% 0% white\;"> Featuring a panel of 3-4 business experts. Bring your marketing questions and/or learn strategies from&nbsp\;challenges that&nbsp\;other business owners have faced. Refreshments provided.</span><br />\n	<br />\n	<span style="background: none repeat scroll 0% 0% white\;">#3. </span><span style="background: none repeat scroll 0% 0% white\; font-weight: normal\;">Marketing Keynote Luncheon Presentation (Wed\, April 24\, 2013\, 11:30 AM - 1:00 PM):</span><span style="background: none repeat scroll 0% 0% white\;"> Come and hear this dynamic marketing presentation and lunch is&nbsp\;on us!</span></span></strong></span><br />\n	&nbsp\;</p>\n<p>\n	<span style="font-size:14px\;"><strong><span style="font-family: arial\;"><em><span style="background: none repeat scroll 0% 0% white\;"><span style="color: rgb(31\, 73\, 125)\;">Online registrations opens on Tuesday\, March 26\, 2013</span></span></em></span></strong></span></p>\n
LOCATION:Royal Oak Inn\, 3130 Victoria Ave\, Brandon\, Manitoba
UID:e.1595.21
SEQUENCE:3
DTSTAMP:20260422T010723Z
URL:https://dev.brandonchamber.ca/events/details/brandon-marketing-conference-2013-04-23-2013-21
END:VEVENT

END:VCALENDAR
