BEGIN:VCALENDAR
VERSION:2.0
PRODID:-//ChamberMaster//Event Calendar 2.0//EN
METHOD:PUBLISH
X-PUBLISHED-TTL:P3D
REFRESH-INTERVAL:P3D
CALSCALE:GREGORIAN
BEGIN:VEVENT
DTSTART:20151104T133000Z
DTEND:20151104T180000Z
X-MICROSOFT-CDO-ALLDAYEVENT:FALSE
SUMMARY:Brandon Growth Summit
DESCRIPTION:Roy Johnston TDS (the Brandon office of Thompson Dorfman Sweatman LLP ('TDS')) and Acumen Corporate Development Inc. ('Acumen') are holding a half-day summit for companies that want to learn strategies to accelerate growth and enhance the intrinsic value of their businesses.\n\n \n\nDate and Time: Wednesday\, November 4th from 7:30 a.m. to 12:00 p.m. at the Victoria Inn\, 3550 Victoria Ave\, Brandon.\n\n \n\nCost:  $45 per person. Space is limited\, so please register early to book your spot at this seminar. \n\n \n\nWho Should Attend?\n\n \n\nBusinesses looking to:\n\n\n	strategically grow\n	increase the inherent value of their assets and mitigate risk\n	prepare for future growth\n\n\nTopics Covered:\n\n\n	Planning for strategic growth\n	Debt financing and raising capital to fund growth\n	Enhancing the value of your intellectual property\n	Tax planning and optimal business structuring to create additional value\n	Entering new markets\n\n\nFollowing the seminar\, lunch will be served from 12:00   1:00 p.m. This will be an opportunity to speak with the presenters\, and network with other attendees.\n\nTo register for the event\, please click here.\n\nAgenda\n\n7:30 a.m. Registration and coffee\n\n \n\n8:00 a.m.   8:15 a.m. Welcome and Opening Remarks\, Introductions (Paul Roy\, Managing Partner of Roy Johnston TDS)\n\n \n\n8:15 a.m.   9:00 a.m. Strategic Growth (Anita Wortzman\, CEO of Acumen)\n\nPlanning for strategic growth\n\nDebt financing and raising capital to fund growth\n\nIncludes Case Study and Q&A\n\n \n\n9:00 a.m.  9:15 a.m. Break\n\n \n\n9:15 a.m.   10:00 a.m. Tax Planning to Realize Additional Value (Leilani Kagan\, Tax Partner\, TDS Law)\n\nTax planning and optimal business structuring to create additional value\n\nIncludes Case Study and Q&A\n\n \n\n10:00 a.m.   10:45 a.m. Enhancing Value of Your Intellectual Property (Silvia de Sousa\, IP Partner\, TDS Law)\n\nIntellectual property audit\n\nIncludes Case Study and Q&A\n\n \n\n10:45 a.m.   11:00 a.m. Break\n\n \n\n11:00 a.m.   11:45 a.m. Entering New Markets (Doug Forbes\, Mergers and Acquisitions Partner\, TDS Law)\n\nIncludes Case Study and Q&A\n\n \n\n11:45 a.m.   12:00 p.m. Closing Remarks (Paul Roy\, Managing Partner\, Roy Johnston TDS)\n\n \n\n12:00 p.m.   1:00 p.m. Lunch
X-ALT-DESC;FMTTYPE=text/html:<p>Roy Johnston TDS (the Brandon office of Thompson Dorfman Sweatman LLP (&lsquo\;TDS&rsquo\;)) and Acumen Corporate Development Inc. (&lsquo\;Acumen&rsquo\;) are holding a half-day summit for companies that want to learn strategies to accelerate growth and enhance the intrinsic value of their businesses.<br />\n&nbsp\;<br />\n<strong>Date and Time:</strong> Wednesday\, November 4th from 7:30 a.m. to 12:00 p.m. at the Victoria Inn\, 3550 Victoria Ave\, Brandon.<br />\n&nbsp\;<br />\n<strong>Cost:</strong>&nbsp\; $45 per person. Space is limited\, so please register early to book your spot at this seminar.&nbsp\;<br />\n&nbsp\;<br />\n<strong>Who Should Attend?</strong><br />\n&nbsp\;<br />\nBusinesses looking to:</p>\n\n<ul>\n	<li>strategically grow</li>\n	<li>increase the inherent value of their assets and mitigate risk</li>\n	<li>prepare for future growth</li>\n</ul>\n\n<p>Topics Covered:</p>\n\n<ul>\n	<li>Planning for strategic growth</li>\n	<li>Debt financing and raising capital to fund growth</li>\n	<li>Enhancing the value of your intellectual property</li>\n	<li>Tax planning and optimal business structuring to create additional value</li>\n	<li>Entering new markets</li>\n</ul>\n\n<p>Following the seminar\, lunch will be served from 12:00 &ndash\; 1:00 p.m. This will be an opportunity to speak with the presenters\, and network with other attendees.</p>\n\n<p>To register for the event\, please <a href="https://tdslaw.wufoo.com/forms/mhffrxe1dw7ndw/" style="color: rgb(14\, 134\, 132)\; text-decoration: none\; box-sizing: border-box\; transition: color 0.2s\;" target="_blank">click here</a>.</p>\n\n<h2>Agenda</h2>\n\n<p><strong>7:30 a.m.</strong> Registration and coffee<br />\n&nbsp\;<br />\n<strong>8:00 a.m. &ndash\; 8:15 a.m.</strong> Welcome and Opening Remarks\, Introductions (<a href="http://www.tdslaw.com/person/paul-roy/" style="color: rgb(14\, 134\, 132)\; text-decoration: none\; box-sizing: border-box\; transition: color 0.2s\;" target="_blank">Paul Roy</a>\, Managing Partner of Roy Johnston TDS)<br />\n&nbsp\;<br />\n<strong>8:15 a.m. &ndash\; 9:00 a.m.</strong> Strategic Growth (<a href="http://www.acumencorpdev.com/who-we-are/" style="color: rgb(14\, 134\, 132)\; text-decoration: none\; box-sizing: border-box\; transition: color 0.2s\;" target="_blank">Anita Wortzman</a>\, CEO of Acumen)<br />\nPlanning for strategic growth<br />\nDebt financing and raising capital to fund growth<br />\nIncludes Case Study and Q&amp\;A<br />\n&nbsp\;<br />\n<strong>9:00 a.m.&ndash\; 9:15 a.m</strong>. Break<br />\n&nbsp\;<br />\n<strong>9:15 a.m. &ndash\; 10:00 a.m.</strong> Tax Planning to Realize Additional Value (<a href="http://www.tdslaw.com/person/leilani-kagan/" style="color: rgb(14\, 134\, 132)\; text-decoration: none\; box-sizing: border-box\; transition: color 0.2s\;" target="_blank">Leilani Kagan</a>\, Tax Partner\, TDS Law)<br />\nTax planning and optimal business structuring to create additional value<br />\nIncludes Case Study and Q&amp\;A<br />\n&nbsp\;<br />\n<strong>10:00 a.m. &ndash\; 10:45 a.m.</strong> Enhancing Value of Your Intellectual Property (<a href="http://www.tdslaw.com/person/silvia-de-sousa/" style="color: rgb(14\, 134\, 132)\; text-decoration: none\; box-sizing: border-box\; transition: color 0.2s\;" target="_blank">Silvia de Sousa</a>\, IP Partner\, TDS Law)<br />\nIntellectual property audit<br />\nIncludes Case Study and Q&amp\;A<br />\n&nbsp\;<br />\n<strong>10:45 a.m. &ndash\; 11:00 a.m.</strong> Break<br />\n&nbsp\;<br />\n<strong>11:00 a.m. &ndash\; 11:45 a.m.</strong> Entering New Markets (<a href="http://www.tdslaw.com/person/Douglas-Forbes/" style="color: rgb(14\, 134\, 132)\; text-decoration: none\; box-sizing: border-box\; transition: color 0.2s\;" target="_blank">Doug Forbes</a>\, Mergers and Acquisitions Partner\, TDS Law)<br />\nIncludes Case Study and Q&amp\;A<br />\n&nbsp\;<br />\n<strong>11:45 a.m. &ndash\; 12:00 p.m.</strong> Closing Remarks (Paul Roy\, Managing Partner\, Roy Johnston TDS)<br />\n&nbsp\;<br />\n<strong>12:00 p.m. &ndash\; 1:00 p.m.</strong> Lunch</p>\n
LOCATION:Victoria Inn - Brandon
UID:e.1595.394
SEQUENCE:3
DTSTAMP:20260419T221909Z
URL:https://dev.brandonchamber.ca/events/details/brandon-growth-summit-11-04-2015-394
END:VEVENT

END:VCALENDAR
