BEGIN:VCALENDAR
VERSION:2.0
PRODID:-//ChamberMaster//Event Calendar 2.0//EN
METHOD:PUBLISH
X-PUBLISHED-TTL:P3D
REFRESH-INTERVAL:P3D
CALSCALE:GREGORIAN
BEGIN:VEVENT
DTSTART;VALUE=DATE:20150527
DTEND;VALUE=DATE:20150529
TRANSP:TRANSPARENT
X-MICROSOFT-CDO-ALLDAYEVENT:TRUE
SUMMARY:Brandon Entrepreneur Bootcamp
DESCRIPTION:Supercharge Your Business!\n\n\n\nLOOKING TO GROW YOUR BUSINESS? NEED RISK CAPITAL?\n\n\n\nThe Westman Region Entrepreneur bootcamp on May 27-28\, 2015 will give you information and tools to enhance your business skills and help you succeed.\n\n\n\nThis is your chance to network with business professionals and like-minded entrepreneurs.\n\n\n\nLearn from serial entrepreneur Randy Thompson\, found of VA Angels\, the most active investor group in Canada with over $28 million invested.\n\n\n\nDAY ONE:\n\n	Participate in an interactive workshop that covers five key areas startups need to consider: products\, customers\, markets\, business models and management teams.\n\nDAY TWO:\n\n\n	Learn how to make an effective business pitch.\n	Take advantage of one-on-one business mentoring sessions\n	Compete in a business Pitch Competition to receive feedback from experienced judges and a chance to win up to $6\,000 in cash and in-kind prizes.
X-ALT-DESC;FMTTYPE=text/html:Supercharge Your Business!<br />\n<br />\nLOOKING TO GROW YOUR BUSINESS? NEED RISK CAPITAL?<br />\n<br />\nThe Westman Region Entrepreneur bootcamp on May 27-28\, 2015 will give you information and tools to enhance your business skills and help you succeed.<br />\n<br />\nThis is your chance to network with business professionals and like-minded entrepreneurs.<br />\n<br />\nLearn from serial entrepreneur Randy Thompson\, found of VA Angels\, the most active investor group in Canada with over $28 million invested.<br />\n<br />\nDAY ONE:\n<ul>\n	<li>Participate in an interactive workshop that covers five key areas startups need to consider: products\, customers\, markets\, business models and management teams.</li>\n</ul>\nDAY TWO:\n\n<ul>\n	<li>Learn how to make an effective business pitch.</li>\n	<li>Take advantage of one-on-one business mentoring sessions</li>\n	<li>Compete in a business Pitch Competition to receive feedback from experienced judges and a chance to win up to $6\,000 in cash and in-kind prizes.</li>\n</ul>\n
LOCATION:The Victoria Inn 3550 Victoria Ave. Brandon\, Manitoba
UID:e.1595.316
SEQUENCE:3
DTSTAMP:20260420T064633Z
URL:https://dev.brandonchamber.ca/events/details/brandon-entrepreneur-bootcamp-05-27-2015-316
END:VEVENT

END:VCALENDAR
