BEGIN:VCALENDAR
VERSION:2.0
PRODID:-//ChamberMaster//Event Calendar 2.0//EN
METHOD:PUBLISH
X-PUBLISHED-TTL:P3D
REFRESH-INTERVAL:P3D
CALSCALE:GREGORIAN
BEGIN:VEVENT
DTSTART:20140926T190000Z
DTEND:20140926T210000Z
X-MICROSOFT-CDO-ALLDAYEVENT:FALSE
SUMMARY:Brandon Civic Seniors presents the Unveiling of the New Brand for the Prairie Oasis Senior Centre
DESCRIPTION:You are invited to attend the "Unveiling of the new Brand"\n\nEnjoy a tropical atmosphere and a tour of the premises and greeting from dignitaries.
X-ALT-DESC;FMTTYPE=text/html:You are invited to attend the &quot\;Unveiling of&nbsp\;the new Brand&quot\;<br />\nEnjoy a tropical atmosphere and a tour of the premises and greeting from dignitaries.
LOCATION:241 8th St
UID:e.1595.133
SEQUENCE:3
DTSTAMP:20260421T041933Z
URL:https://dev.brandonchamber.ca/events/details/brandon-civic-seniors-presents-the-unveiling-of-the-new-brand-for-the-prairie-oasis-senior-centre-09-26-2014-133
END:VEVENT

END:VCALENDAR
