BEGIN:VCALENDAR
VERSION:2.0
PRODID:-//ChamberMaster//Event Calendar 2.0//EN
METHOD:PUBLISH
X-PUBLISHED-TTL:P3D
REFRESH-INTERVAL:P3D
CALSCALE:GREGORIAN
BEGIN:VEVENT
DTSTART:20141030T220000Z
DTEND:20141031T000000Z
X-MICROSOFT-CDO-ALLDAYEVENT:FALSE
SUMMARY:Brandon Chamber of Commerce AGM
DESCRIPTION:Please join us after work for our Annual AGM which is open to all members of the Brandon Chamber of Commerce.\n\n\n\nFeaturing:\n\n- Leadership Message\n\n- Highlights of the past year: activities\, advocacy\, partnerships\n\n- Approval of the treasurer's report (all members in good standing are eligible to vote)
X-ALT-DESC;FMTTYPE=text/html:Please join us&nbsp\;after work for our Annual AGM which is open to all members of the Brandon Chamber of Commerce.<br />\n<br />\nFeaturing:<br />\n- Leadership Message<br />\n- Highlights of the past year: activities\, advocacy\, partnerships<br />\n- Approval of the treasurer&#39\;s report (all members in good standing are eligible to vote)
LOCATION:Remington's - Private Dining Room
UID:e.1595.147
SEQUENCE:3
DTSTAMP:20260421T001553Z
URL:https://dev.brandonchamber.ca/events/details/brandon-chamber-of-commerce-agm-10-30-2014-147
END:VEVENT

END:VCALENDAR
