BEGIN:VCALENDAR
VERSION:2.0
PRODID:-//ChamberMaster//Event Calendar 2.0//EN
METHOD:PUBLISH
X-PUBLISHED-TTL:P3D
REFRESH-INTERVAL:P3D
CALSCALE:GREGORIAN
BEGIN:VEVENT
DTSTART:20131021T181500Z
DTEND:20131021T190000Z
X-MICROSOFT-CDO-ALLDAYEVENT:FALSE
SUMMARY:Brandon Chamber of Commerce AGM
DESCRIPTION:The Brandon Chamber of Commerce will be holding their Annual General Meeting Monday\, October 21st\, 2013 at 1:15pm at the Royal Oak Inn & Suites.\n\n\n\nThe AGM will commence immediately after the Small Business Week Kickoff Luncheon. There will be a By-Law Amendment put forth for vote. To view this amendment click here\n\n\n\nKeep checking back for AGM updates.
X-ALT-DESC;FMTTYPE=text/html:The Brandon Chamber of Commerce will be holding their Annual General Meeting Monday\, October 21st\, 2013 at 1:15pm at the Royal Oak Inn &amp\; Suites.<br />\n<br />\nThe AGM will commence immediately after the Small Business Week Kickoff&nbsp\;Luncheon. There will be a By-Law Amendment put forth for vote. To view this amendment <strong><a href="http://cloud.chambermaster.com/userfiles/UserFiles/chambers/1595/File/ByLawAmendmentOct212013.pdf">click here</a></strong><br />\n<br />\nKeep checking back for AGM updates.
LOCATION:Royal Oak Inn and Suites
UID:e.1595.58
SEQUENCE:3
DTSTAMP:20260421T164955Z
URL:https://dev.brandonchamber.ca/events/details/brandon-chamber-of-commerce-agm-10-21-2013-58
END:VEVENT

END:VCALENDAR
