BEGIN:VCALENDAR
VERSION:2.0
PRODID:-//ChamberMaster//Event Calendar 2.0//EN
METHOD:PUBLISH
X-PUBLISHED-TTL:P3D
REFRESH-INTERVAL:P3D
CALSCALE:GREGORIAN
BEGIN:VEVENT
DTSTART:20131120T170000Z
DTEND:20131120T190000Z
X-MICROSOFT-CDO-ALLDAYEVENT:FALSE
SUMMARY:Brandon Chamber of Commerce 2013 By-Election Forum
DESCRIPTION:Make an informed Choice!\n\n\n\nThe Brandon Chamber of Commerce extends an invitation for you to attend the 2013 By-Election Forum.\n\n\n\nAt this luncheon\, candidates for the position of Member of Parliament for the Brandon-Souris area will square off in debate.\n\n\n\nThis will give the public an opportunity to hear directly from candidates\, and will give the candidates an opportunity to argue their viewpoints on the issues of this election.\n\n\n\nCandidates will be asked to give their opinions on issues that are of concern to the membership of the Brandon Chamber of Commerce.
X-ALT-DESC;FMTTYPE=text/html:Make an informed Choice!<br />\n<br />\nThe Brandon Chamber of Commerce extends an invitation for you to attend the 2013 By-Election Forum.<br />\n<br />\nAt this luncheon\, candidates for the position of Member of Parliament for the Brandon-Souris area will square off in debate.<br />\n<br />\nThis will give the public an opportunity to hear directly from candidates\, and will give the candidates an opportunity to argue their viewpoints on the issues of this election.<br />\n<br />\nCandidates will be asked to give their opinions on issues that are of concern to the membership of the Brandon Chamber of Commerce.
LOCATION:Victoria Inn\, Imperial Ball Room 3550 Victoria Ave West
UID:e.1595.63
SEQUENCE:3
DTSTAMP:20260421T154531Z
URL:https://dev.brandonchamber.ca/events/details/brandon-chamber-of-commerce-2013-by-election-forum-11-20-2013-63
END:VEVENT

END:VCALENDAR
