BEGIN:VCALENDAR
VERSION:2.0
PRODID:-//ChamberMaster//Event Calendar 2.0//EN
METHOD:PUBLISH
X-PUBLISHED-TTL:P3D
REFRESH-INTERVAL:P3D
CALSCALE:GREGORIAN
BEGIN:VEVENT
DTSTART;VALUE=DATE:20140611
DTEND;VALUE=DATE:20140612
TRANSP:TRANSPARENT
X-MICROSOFT-CDO-ALLDAYEVENT:TRUE
SUMMARY:Brandon Chamber - 25th Annual Golf Tournament
DESCRIPTION:Join the Chamber on the greens at the Minnedosa Golf & Country Club for a day of fun in the summer with co-workers\, clients\, and friends.\n\n\n\nThere are numerous Sponsorship opportunities - contact Allison Reville at external@brandonchamber.ca or (204) 571-5344 for more information.
X-ALT-DESC;FMTTYPE=text/html:Join the Chamber on the greens at the Minnedosa Golf &amp\; Country Club for a day of fun in the summer with co-workers\, clients\, and friends.<br />\n<br />\nThere are numerous Sponsorship opportunities - contact Allison Reville at <a href="mailto:external@brandonchamber.ca">external@brandonchamber.ca</a> or (204) 571-5344 for more information.
LOCATION:Minnedosa Golf & Country Club Minnedosa\, MB
UID:e.1595.88
SEQUENCE:3
DTSTAMP:20260421T053740Z
URL:https://dev.brandonchamber.ca/events/details/brandon-chamber-25th-annual-golf-tournament-06-11-2014-88
END:VEVENT

END:VCALENDAR
