BEGIN:VCALENDAR
VERSION:2.0
PRODID:-//ChamberMaster//Event Calendar 2.0//EN
METHOD:PUBLISH
X-PUBLISHED-TTL:P3D
REFRESH-INTERVAL:P3D
CALSCALE:GREGORIAN
BEGIN:VEVENT
DTSTART:20150423T110000Z
DTEND:20150423T230000Z
X-MICROSOFT-CDO-ALLDAYEVENT:FALSE
SUMMARY:Brandon Caring for Kids Radiothon
DESCRIPTION:Join the Children's Hospital Foundation for the Caring for Kids Radiothon in Brandon\, MB at the Planet Kia\, 415   18th St N. on Thursday\, April 23\, 2015.\n\nFunds raised will support the Brandon Regional Health Centre and the Children's Hospital   HSC Winnipeg.\n\nThe Caring For Kids Radiothon gives listeners the opportunity to hear first-hand stories from children that have fought hard for their lives\, as well as the struggles their families have faced and continue to face everyday.\n\n\n\nFor more information please visit goodbear.mb.ca
X-ALT-DESC;FMTTYPE=text/html:<p>Join the Children&rsquo\;s Hospital Foundation for the Caring for Kids Radiothon in Brandon\, MB at the Planet Kia\, 415 &ndash\; 18th&nbsp\;St N. on Thursday\, April 23\, 2015.</p>\n\n<p>Funds raised will support the&nbsp\;Brandon Regional Health Centre and the Children&rsquo\;s Hospital &ndash\; HSC Winnipeg.</p>\n\n<p>The <em>Caring&nbsp\;For Kids Radiothon&nbsp\;</em>gives listeners the opportunity to hear first-hand stories from children that have fought hard for their lives\, as well as the struggles their families have faced and continue to face everyday.<br />\n<br />\nFor more information please visit <a href="http://goodbear.mb.ca/">goodbear.mb.ca</a>&nbsp\;</p>\n
LOCATION:Planet Kia\, 415 18th St N.
UID:e.1595.287
SEQUENCE:3
DTSTAMP:20260420T084447Z
URL:https://dev.brandonchamber.ca/events/details/brandon-caring-for-kids-radiothon-04-23-2015-287
END:VEVENT

END:VCALENDAR
