BEGIN:VCALENDAR
VERSION:2.0
PRODID:-//ChamberMaster//Event Calendar 2.0//EN
METHOD:PUBLISH
X-PUBLISHED-TTL:P3D
REFRESH-INTERVAL:P3D
CALSCALE:GREGORIAN
BEGIN:VEVENT
DTSTART;VALUE=DATE:20131129
DTEND;VALUE=DATE:20131130
TRANSP:TRANSPARENT
X-MICROSOFT-CDO-ALLDAYEVENT:TRUE
SUMMARY:Brandon Black Friday
DESCRIPTION:Brandon Black Friday
X-ALT-DESC;FMTTYPE=text/html:Brandon Black Friday
LOCATION:
UID:e.1595.66
SEQUENCE:3
DTSTAMP:20260421T152052Z
URL:https://dev.brandonchamber.ca/events/details/brandon-black-friday-11-29-2013-66
END:VEVENT

END:VCALENDAR
