BEGIN:VCALENDAR
VERSION:2.0
PRODID:-//ChamberMaster//Event Calendar 2.0//EN
METHOD:PUBLISH
X-PUBLISHED-TTL:P3D
REFRESH-INTERVAL:P3D
CALSCALE:GREGORIAN
BEGIN:VEVENT
DTSTART:20130220T180000Z
DTEND:20130220T193000Z
X-MICROSOFT-CDO-ALLDAYEVENT:FALSE
SUMMARY:BIS: Have You Fallen Into the Entrepreneurial Trap
DESCRIPTION:This 90 minute workshop encourages participants to think about business and the convention of business in a different way.  We know that in order to create a different level of performance\, you first have to be open to a different way of thinking.  If you recall anytime\, you yourself have created a different level of performance for you\, there was a moment just before you made the change\, where your mind became open to a different possibility and in that\, you were able to create that new level of performance for you.  \n\n\n\nWe know the same thing applies to business and organizations.  While running a business can be one of the most rewarding challenges for an entrepreneur\, the problem is it is easy to get caught up in the thinking associated with running that business day to day and to lose sight of a bigger picture.  Many think it is about working harder or longer or in having more cash\, when in true fact\, it is about thinking the opposite.  What would it mean to you\, if the challenges you have right in front of you were in fact the keys to create a different level of performance\, if only you could open yourself up to the possibility.  Those who are successful\, truly recognize that in any problem\, there is always an opportunity.\n\n\n\nPresented by: Jeff Roziere & Cathy Snelgrove\n\n    DiscoverYou
X-ALT-DESC;FMTTYPE=text/html:<span style="font-family: arial\,sans-serif\;">This 90 minute workshop encourages participants to think about business and the convention of business in a different way.&nbsp\; We know that in order to create a different level of performance\, you first have to be open to a different way of thinking.&nbsp\; If you recall anytime\, you yourself have created a different level of performance for you\, there was a moment just before you made the change\, where your mind became open to a different possibility and in that\, you were able to create that new level of performance for you.&nbsp\; </span><br />\n<br />\n<span style="font-family: arial\,sans-serif\;">We know the same thing applies to business and organizations.&nbsp\; While running a business can be one of the most rewarding challenges for an entrepreneur\, the problem is it is easy to get caught up in the thinking associated with running that business day to day and to lose sight of a bigger picture.&nbsp\; Many think it is about working harder or longer or in having more cash\, when in true fact\, it is about thinking the opposite.&nbsp\; What would it mean to you\, if the challenges you have right in front of you were in fact the keys to create a different level of performance\, if only you could open yourself up to the possibility.&nbsp\; Those who are successful\, truly recognize that in any problem\, there is always an opportunity.<br />\n<br />\nPresented by: Jeff Roziere &amp\; Cathy Snelgrove<br />\n&nbsp\;&nbsp\;&nbsp\;&nbsp\;DiscoverYou</span>
LOCATION:Chamber Office 1043 Rosser Avenue
UID:e.1595.19
SEQUENCE:3
DTSTAMP:20260422T035440Z
URL:https://dev.brandonchamber.ca/events/details/bis-have-you-fallen-into-the-entrepreneurial-trap-02-20-2013-19
END:VEVENT

END:VCALENDAR
