BEGIN:VCALENDAR
VERSION:2.0
PRODID:-//ChamberMaster//Event Calendar 2.0//EN
METHOD:PUBLISH
X-PUBLISHED-TTL:P3D
REFRESH-INTERVAL:P3D
CALSCALE:GREGORIAN
BEGIN:VEVENT
DTSTART:20150219T133000Z
DTEND:20150219T220000Z
X-MICROSOFT-CDO-ALLDAYEVENT:FALSE
SUMMARY:Bakken 2.0 - Conference and Luncheon
DESCRIPTION:Chamber Luncheon Series\n\n\n	"The Bakken Story" Keynote speaker Tom Rolfstad\, former Director of Williston Economic Development. Having seen and worked with the boom for nearly 25 years\, he explains why the Bakken shale's unique characteristics should make this a growing economy for many years to come.\n\nBusiness Development Conference and Expo\n\n\n\nGet the latest industry updates in the oil sector and learn about future prospects and opportunities for your organization!\n\n\n\nBakken 2.0 will take a deeper dive to help companies\, organizations\, and communities better understand the current state of affairs in the oil sector in Canada and the Bakken\, and what the climate means for business in the sector - now and in the future. \n\n\n\nConference Program\n\n\n	Registration & Continental Breakfast\n	State of the Industry Panel: Bill Whitelaw - JuneWarren Nickel's Energy Group\; Jason Rose - Canada Office\, Pennsylvania Dept of Community & Economic Development\; Keith Lowdon - Petroleum Branch\, Province of Manitoba\n	The Bakken Outlook:  North Dakota State University  2014-2019 Oil Impacts Study.\n	Doing Business in the Bakken: Jeff Zarling - DAWA Solutions Group\n	Luncheon "The Bakken Story" Tom Rolfstad\, former Economic Development Director\, City of Williston\n	Supply Chain 101: Clark Grue - Rainmaker Global Business Development \n	Industry panel: Pete Nilsen - Middle Market Resources\; Corey Stormoen - Resirkulere\; Rob Malo - Business Development\, Cadorath\n	Networking Reception\n\n\nPresented by The Brandon Chamber of Commerce and the World Trade Centre Winnipeg
X-ALT-DESC;FMTTYPE=text/html:<br />\n<span style="font-size: 18px\;"><u><strong><span style="color: rgb(255\, 102\, 0)\;">Chamber Luncheon Series</span></strong></u></span>\n\n<ul>\n	<li style="line-height: 150%\; font-style: normal\; font-weight: normal\; -ms-text-size-adjust: 100%\; -webkit-text-size-adjust: 100%\;"><span style="font-size: 14px\;"><strong><span style="font-family: helvetica\,sans-serif\;">&quot\;The Bakken Story&quot\; </span></strong></span>Keynote speaker Tom Rolfstad\, former Director of Williston Economic Development. Having seen and worked with the boom for nearly 25 years\, he explains why the Bakken shale&#39\;s unique characteristics should make this a growing economy for many years to come.</li>\n</ul>\n<span style="font-size: 18px\;"><u><strong><span style="color: rgb(255\, 102\, 0)\;">Business Development Conference and Expo</span></strong></u></span><br />\n<br />\nGet the latest industry updates in the oil sector and learn about future prospects and opportunities for your organization!<br />\n<br />\nBakken 2.0 will take a deeper dive to help companies\, organizations\, and communities better understand the current state of affairs in the oil sector in Canada and the Bakken\, and what the climate means for business in the sector - now and in the future.&nbsp\;<br />\n<br />\n<span style="color: rgb(255\, 102\, 0)\;"><u><strong><span style="font-size: 11.5pt\;"><span style="font-family: helvetica\,sans-serif\;">Conference Program</span></span></strong></u></span>\n\n<ul>\n	<li style="line-height: 150%\; font-style: normal\; font-weight: normal\; -ms-text-size-adjust: 100%\; -webkit-text-size-adjust: 100%\;"><strong><span style="font-size: 14px\;"><span style="font-family: helvetica\,sans-serif\;">Registration &amp\; Continental Breakfast</span></span></strong></li>\n	<li style="line-height: 150%\; font-style: normal\; font-weight: normal\; -ms-text-size-adjust: 100%\; -webkit-text-size-adjust: 100%\;"><span style="font-size: 14px\;"><strong><span style="font-family: helvetica\,sans-serif\;">State of the Industry Panel</span></strong><span style="font-family: helvetica\,sans-serif\;">: Bill Whitelaw - <a href="http://www.junewarren-nickles.com/">JuneWarren Nickel&#39\;s Energy Group</a>\; Jason Rose - <a href="http://www.newpa.com/">Canada Office\, Pennsylvania Dept of Community &amp\; Economic Development</a>\; Keith Lowdon - <a href="http://www.gov.mb.ca/iem/petroleum/">Petroleum Branch\, Province of Manitoba</a></span></span></li>\n	<li style="line-height: 150%\; font-style: normal\; font-weight: normal\; -ms-text-size-adjust: 100%\; -webkit-text-size-adjust: 100%\;"><span style="font-size: 14px\;"><span style="font-family: helvetica\,sans-serif\;"><strong>The Bakken Outlook: <span style="display: none\;">&nbsp\;</span></strong>North Dakota State University&nbsp\;<span style="display: none\;">&nbsp\;</span>2014-2019 Oil Impacts Study.</span></span></li>\n	<li style="line-height: 150%\; font-style: normal\; font-weight: normal\; -ms-text-size-adjust: 100%\; -webkit-text-size-adjust: 100%\;"><span style="font-size: 14px\;"><span style="font-family: helvetica\,sans-serif\;"><span style="font-family: helvetica\,sans-serif\;"><strong>Doing Business in the Bakken</strong>: <span style="font-family: helvetica\,sans-serif\;">Jeff Zarling - <a href="http://www.dawasg.com/Information">DAWA Solutions Group</a></span></span></span></span></li>\n	<li style="line-height: 150%\; font-style: normal\; font-weight: normal\; -ms-text-size-adjust: 100%\; -webkit-text-size-adjust: 100%\;"><span style="font-size: 14px\;"><span style="font-family: helvetica\,sans-serif\;"><span style="font-family: helvetica\,sans-serif\;"><strong>Luncheon &quot\;The Bakken Story&quot\; </strong></span><a href="http://bismarcktribune.com/news/state-and-regional/career-spans-city-s-ups-and-downs/article_10c51866-5d90-11e4-8513-bf67e3b283ec.html">Tom Rolfstad</a>\, former Economic Development Director\, City of Williston</span></span></li>\n	<li style="line-height: 150%\; font-style: normal\; font-weight: normal\; -ms-text-size-adjust: 100%\; -webkit-text-size-adjust: 100%\;"><span style="font-size: 14px\;"><strong><span style="font-family: helvetica\,sans-serif\;">Supply Chain 101: </span></strong><span style="font-family: helvetica\,sans-serif\;">Clark Grue -&nbsp\;<a href="http://www.rainmaker-gbd.com/">Rainmaker Global Business Development </a></span></span></li>\n	<li style="line-height: 150%\; font-style: normal\; font-weight: normal\; -ms-text-size-adjust: 100%\; -webkit-text-size-adjust: 100%\;"><span style="font-size: 14px\;"><strong><span style="font-family: helvetica\,sans-serif\;">Industry panel: </span></strong><span style="font-family: helvetica\,sans-serif\;">Pete Nilsen - <a href="http://www.midmarketresources.com/">Middle Market Resources</a>\; Corey Stormoen - <a href="http://www.resirkulere.com/">Resirkulere</a>\; Rob Malo - <a href="http://www.cadorath.com/">Business Development\, Cadorath</a></span></span></li>\n	<li style="line-height: 150%\; font-style: normal\; font-weight: normal\; -ms-text-size-adjust: 100%\; -webkit-text-size-adjust: 100%\;"><strong><span style="font-size: 14px\;"><span style="font-family: helvetica\,sans-serif\;">Networking Reception</span></span></strong></li>\n</ul>\n\n<div style="line-height: 150%\; font-style: normal\; font-weight: normal\; -ms-text-size-adjust: 100%\; -webkit-text-size-adjust: 100%\;">Presented by The Brandon Chamber of Commerce and the World Trade Centre Winnipeg</div>\n
LOCATION:UCT Pavilion Keystone Centre - Brandon\, Manitoba
UID:e.1595.199
SEQUENCE:3
DTSTAMP:20260420T195441Z
URL:https://dev.brandonchamber.ca/events/details/bakken-2-0-conference-and-luncheon-02-19-2015-199
END:VEVENT

END:VCALENDAR
