BEGIN:VCALENDAR
VERSION:2.0
PRODID:-//ChamberMaster//Event Calendar 2.0//EN
METHOD:PUBLISH
X-PUBLISHED-TTL:P3D
REFRESH-INTERVAL:P3D
CALSCALE:GREGORIAN
BEGIN:VEVENT
DTSTART:20150820T000000Z
DTEND:20150820T030000Z
X-MICROSOFT-CDO-ALLDAYEVENT:FALSE
SUMMARY:"Back to the River" Public Workshop - Re-Imagining Brandon's Riverbank Corridor to meet new realities
DESCRIPTION:Join us for a chance to share your ideas and brainstorm with others about how to access and use the riverbank over the next 20 years.
X-ALT-DESC;FMTTYPE=text/html:Join us for a chance to share your ideas and brainstorm with others about how to access and use the riverbank over the next 20 years.
LOCATION:Victoria Inn\, Salon 1 - 3550 Victoria Avenue
UID:e.1595.336
SEQUENCE:3
DTSTAMP:20260420T035548Z
URL:https://dev.brandonchamber.ca/events/details/back-to-the-river-public-workshop-re-imagining-brandon-s-riverbank-corridor-to-meet-new-realities-08-19-2015-336
END:VEVENT

END:VCALENDAR
