BEGIN:VCALENDAR
VERSION:2.0
PRODID:-//ChamberMaster//Event Calendar 2.0//EN
METHOD:PUBLISH
X-PUBLISHED-TTL:P3D
REFRESH-INTERVAL:P3D
CALSCALE:GREGORIAN
BEGIN:VEVENT
DTSTART:20151109T230000Z
DTEND:20151110T030000Z
X-MICROSOFT-CDO-ALLDAYEVENT:FALSE
SUMMARY:Back To The River - Public Workshop
DESCRIPTION:Brandon Riverbank Inc. has been working with HTFC Planning + Design on the important task of revisiting and refreshing our 20-year Master Plan.  Over the summer\, we met with partners\, stakeholders and members for our community to hear about how they want to use and enjoy the Assiniboine River Corridor throughout the City of Brandon.  We received such great feedback and many awesome ideas were shared\; with the last six weeks being spent putting projects and priorities in place.  Now it is time to touch base to make sure that we are on the right track!\n\nPlease join us at the Riverbank Discovery Centre on Monday\, November 9th\, 2015 for two public open houses   at 5 p.m. and 7 p.m.   to give us your input as we finalize the Master Plan.\n\n\n\nWe want you to be engaged and involved in this process and have a say in the development and remediation of YOUR Riverbank!
X-ALT-DESC;FMTTYPE=text/html:<p>Brandon Riverbank Inc. has been working with HTFC Planning + Design on the important task of revisiting and refreshing our 20-year Master Plan. &nbsp\;Over the summer\, we met with partners\, stakeholders and members for our community to hear about how they want to use and enjoy the Assiniboine River Corridor throughout the City of Brandon. &nbsp\;We received such great feedback and many awesome ideas were shared\; with the last six weeks being spent putting projects and priorities in place. &nbsp\;Now it is time to touch base to make sure that we are on the right track!</p>\n\n<p>Please join us at the Riverbank Discovery Centre on Monday\, November 9th\, 2015 for two public open houses &ndash\; at 5 p.m. and 7 p.m. &ndash\; to give us your input as we finalize the Master Plan.<br />\n<br />\nWe want you to be engaged and involved in this process and have a say in the development and remediation of YOUR Riverbank!</p>\n
LOCATION:Riverbank Discovery Centre\, #1-545 Conservation Drive\, Brandon
UID:e.1595.397
SEQUENCE:3
DTSTAMP:20260419T222059Z
URL:https://dev.brandonchamber.ca/events/details/back-to-the-river-public-workshop-11-09-2015-397
END:VEVENT

END:VCALENDAR
