BEGIN:VCALENDAR
VERSION:2.0
PRODID:-//ChamberMaster//Event Calendar 2.0//EN
METHOD:PUBLISH
X-PUBLISHED-TTL:P3D
REFRESH-INTERVAL:P3D
CALSCALE:GREGORIAN
BEGIN:VEVENT
DTSTART:20121120T230000Z
DTEND:20121121T010000Z
X-MICROSOFT-CDO-ALLDAYEVENT:FALSE
SUMMARY:BA5: RBC Royal Bank
DESCRIPTION:Join us with hosts RBC Royal Bank on 18th Street in presenting their new store! \n\n\n\nThe Store provides customers the opportunity to choose how they deal with RBC Royal Bank through self-service   3 ATM's (1 with USD capability)\, a Drive-Through ATM and an on-line banking terminal\, or assisted service at the 4 merchandisers\, Advice Event centre with a 60 inch Digital Screen and giant I-pad\, or full-service with 2 business\, 7 teller and 1 sit down wickets.  In addition\, the store offers 6 meeting offices and 2 semi-private stations where the branch Sales team and Career Sales Force staff can provide advice and guidance to their clients in private and semi-private environments.
X-ALT-DESC;FMTTYPE=text/html:Join us with hosts RBC Royal Bank on 18th Street in presenting their new store!&nbsp\;<br />\n<br />\n<span style="font-family: arial\,sans-serif\;"><span style="font-size: 10pt\;">The Store provides customers the opportunity to choose how they deal with RBC Royal Bank through <strong>self-service</strong> &ndash\; 3 ATM&rsquo\;s (1 with USD capability)\, a Drive-Through ATM and an on-line banking terminal\, or <strong>assisted service</strong> at the 4 merchandisers\, Advice Event centre with a 60 inch Digital Screen and giant I-pad\, or <strong>full-service</strong> with 2 business\, 7 teller and 1 sit down wickets.&nbsp\; In addition\, the store offers 6 meeting offices and 2 semi-private stations where the branch Sales team and Career Sales Force staff can provide advice and guidance to their clients in private and semi-private environments.</span></span>
LOCATION:661 18th Street
UID:e.1595.5
SEQUENCE:3
DTSTAMP:20260422T075612Z
URL:https://dev.brandonchamber.ca/events/details/ba5-rbc-royal-bank-11-20-2012-5
END:VEVENT

END:VCALENDAR
