BEGIN:VCALENDAR
VERSION:2.0
PRODID:-//ChamberMaster//Event Calendar 2.0//EN
METHOD:PUBLISH
X-PUBLISHED-TTL:P3D
REFRESH-INTERVAL:P3D
CALSCALE:GREGORIAN
BEGIN:VEVENT
DTSTART:20130122T230000Z
DTEND:20130123T010000Z
X-MICROSOFT-CDO-ALLDAYEVENT:FALSE
SUMMARY:BA5: Brandon University
DESCRIPTION:Join us for the Business After 5 at Brandon University's new Healthy Living Centre.  Check out their new facility as well as enjoy snacks\, drinks and great networking with with other member businesses.
X-ALT-DESC;FMTTYPE=text/html:Join us for the Business After 5 at Brandon University&#39\;s new Healthy Living Centre.&nbsp\; Check out their new facility as well as enjoy snacks\, drinks and great networking with with other member businesses.
LOCATION:Brandon University Healthy Living Centre
UID:e.1595.9
SEQUENCE:3
DTSTAMP:20260422T051157Z
URL:https://dev.brandonchamber.ca/events/details/ba5-brandon-university-01-22-2013-9
END:VEVENT

END:VCALENDAR
