BEGIN:VCALENDAR
VERSION:2.0
PRODID:-//ChamberMaster//Event Calendar 2.0//EN
METHOD:PUBLISH
X-PUBLISHED-TTL:P3D
REFRESH-INTERVAL:P3D
CALSCALE:GREGORIAN
BEGIN:VEVENT
DTSTART:20130418T163000Z
DTEND:20130418T180000Z
X-MICROSOFT-CDO-ALLDAYEVENT:FALSE
SUMMARY:April - State of the Province Luncheon
DESCRIPTION:Join us to hear from the Premier of Manitoba\, Greg Selinger. \n\n\n\nSelinger will give an update on the provincial government and what plans are in place for the future.
X-ALT-DESC;FMTTYPE=text/html:Join us to hear from the Premier of Manitoba\, Greg Selinger.&nbsp\;<br />\n<br />\nSelinger will give an update on the provincial government and what plans are in place for the future.
LOCATION:Keystone Centre - UCT Pavilion
UID:e.1595.12
SEQUENCE:3
DTSTAMP:20260422T011323Z
URL:https://dev.brandonchamber.ca/events/details/april-state-of-the-province-luncheon-04-18-2013-12
END:VEVENT

END:VCALENDAR
