BEGIN:VCALENDAR
VERSION:2.0
PRODID:-//ChamberMaster//Event Calendar 2.0//EN
METHOD:PUBLISH
X-PUBLISHED-TTL:P3D
REFRESH-INTERVAL:P3D
CALSCALE:GREGORIAN
BEGIN:VEVENT
DTSTART:20150923T210000Z
DTEND:20150924T000000Z
X-MICROSOFT-CDO-ALLDAYEVENT:FALSE
SUMMARY:Annual Fall Cleanup
DESCRIPTION:Sign up as co-workers\, neighbours\, friends\, families or individuals to participate in the Great Canadian Shoreline Cleanup at the Riverbank Discovery Centre.  Join us for a FREE BBQ and prize giveaways to end off the night!\n\n\n\nTo register please contact Whitney at 204-729-2141 or whitney@riverbank.mb.ca.
X-ALT-DESC;FMTTYPE=text/html:Sign up as co-workers\, neighbours\, friends\, families or individuals to participate in the Great Canadian Shoreline Cleanup at the Riverbank Discovery Centre. &nbsp\;Join us for a FREE BBQ and prize giveaways to end off the night!<br />\n<br />\nTo register please contact Whitney at 204-729-2141 or whitney@riverbank.mb.ca.<br />\n<br />\n&nbsp\;
LOCATION:Riverbank Discovery Centre - #1-545 Conservation Drive
UID:e.1595.342
SEQUENCE:3
DTSTAMP:20260420T010232Z
URL:https://dev.brandonchamber.ca/events/details/annual-fall-cleanup-09-23-2015-342
END:VEVENT

END:VCALENDAR
