BEGIN:VCALENDAR
VERSION:2.0
PRODID:-//ChamberMaster//Event Calendar 2.0//EN
METHOD:PUBLISH
X-PUBLISHED-TTL:P3D
REFRESH-INTERVAL:P3D
CALSCALE:GREGORIAN
BEGIN:VEVENT
DTSTART;VALUE=DATE:20150824
DTEND;VALUE=DATE:20150828
TRANSP:TRANSPARENT
X-MICROSOFT-CDO-ALLDAYEVENT:TRUE
SUMMARY:A&W 's Cruisin to End MS
DESCRIPTION:Business Pre-Order Form\n\n \n\nTreat your staff & support the MS Society \n\nwith this exclusive opportunity!\n\n \n\nInstead of just one day to show your support\, \n\nwe're extending the offer to you for the entire week! \n\n$1 from every Teen Burger or Double Teen Burger pre-ordered for pick up during the week of \n\nAugust 24th   27th  will go towards helping end MS.\n\n \n\nPlease call the A&W closest to you with the following information ready:\n\n \n\nDay of Pick Up:       Monday     Tuesday     Wednesday         Thursday    \n\n \n\nTime of Pick Up:    _____________________\n\n \n\nCompany: ____________________________________________________________________\n\n \n\nContact Name: ________________________     Phone Number: _______________________\n\n \n\n \n\n	\n		\n			Item\n			Quantity\n		\n		\n			Teen Burger \n			 \n		\n		\n			Double Teen Burger \n			 \n		\n		\n			Onion Rings\n			 \n		\n		\n			Regular French Fries\n			 \n		\n		\n			Regular A&W Root Beer \n			 \n		\n	\n\n\n \n \n\n \n\n	\n		\n			Additional Requests: \n\n			 \n\n			 \n\n			 \n\n			 \n		\n	\n\n*Minimum 10 burgers per order. \n\n \n\nA&W Locations\n\n18th & Queens - 1847 Queens Ave           204-727-3793\n\nTrans Canada - 1550 Highland Ave         204-729-0811
X-ALT-DESC;FMTTYPE=text/html:<br />\n<strong><span style="font-size:28pt"><span style="font-family:maiandra gd\,sans-serif">Business Pre-Order Form</span></span></strong><br />\n&nbsp\;<br />\n<span style="font-size:18pt"><span style="font-family:maiandra gd\,sans-serif">Treat your staff &amp\; support the MS Society </span></span><br />\n<span style="font-size:18pt"><span style="font-family:maiandra gd\,sans-serif">with this exclusive opportunity!</span></span><br />\n&nbsp\;<br />\n<span style="font-size:16pt"><span style="font-family:maiandra gd\,sans-serif">Instead of just one day to show your support\, </span></span><br />\n<span style="font-size:16pt"><span style="font-family:maiandra gd\,sans-serif">we&rsquo\;re extending the offer to you for the entire week! </span></span><br />\n<strong><span style="font-size:16pt"><span style="font-family:maiandra gd\,sans-serif">$1</span></span></strong><span style="font-size:16pt"><span style="font-family:maiandra gd\,sans-serif"> from every Teen Burger or Double Teen Burger pre-ordered for pick up during the week of </span></span><br />\n<span style="font-size:16pt"><span style="font-family:maiandra gd\,sans-serif">August 24<sup>th</sup> &ndash\; 27<sup>th</sup> &nbsp\;will go towards helping end MS.</span></span><br />\n&nbsp\;<br />\n<span style="font-size:14pt"><span style="font-family:maiandra gd\,sans-serif">Please call the A&amp\;W closest to you with the following information ready:</span></span><br />\n&nbsp\;<br />\n<span style="font-family:maiandra gd\,sans-serif"><span style="font-size:medium">Day of Pick Up: &nbsp\;&nbsp\;&nbsp\;&nbsp\; <strong>&nbsp\;Monday &nbsp\;&nbsp\;&nbsp\; Tuesday&nbsp\; &nbsp\;&nbsp\; Wednesday &nbsp\;&nbsp\;&nbsp\;&nbsp\;&nbsp\;&nbsp\;&nbsp\; Thursday</strong> &nbsp\;&nbsp\;&nbsp\;</span></span><br />\n&nbsp\;<br />\n<span style="font-family:maiandra gd\,sans-serif"><span style="font-size:medium">Time of Pick Up: &nbsp\;&nbsp\;&nbsp\;_____________________</span></span><br />\n&nbsp\;<br />\n<span style="font-family:maiandra gd\,sans-serif"><span style="font-size:medium">Company: ____________________________________________________________________</span></span><br />\n&nbsp\;<br />\n<span style="font-family:maiandra gd\,sans-serif"><span style="font-size:medium">Contact Name: ________________________ &nbsp\;&nbsp\;&nbsp\;&nbsp\;Phone Number: _______________________</span></span><br />\n&nbsp\;<br />\n&nbsp\;\n<table align="center" border="1" cellpadding="0" cellspacing="0" style="border-collapse:collapse\; border:currentColor">\n	<tbody>\n		<tr>\n			<td style="width: 255px\; vertical-align: top\;"><span style="font-family:maiandra gd\,sans-serif"><span style="font-size:medium">Item</span></span></td>\n			<td style="width: 153px\; vertical-align: top\;"><span style="font-family:maiandra gd\,sans-serif"><span style="font-size:medium">Quantity</span></span></td>\n		</tr>\n		<tr>\n			<td style="width: 255px\;"><span style="font-size:medium"><strong><span style="font-family:maiandra gd\,sans-serif">Teen Burger</span></strong></span><span style="font-family:maiandra gd\,sans-serif">&reg\;</span></td>\n			<td style="width: 153px\; vertical-align: top\;">&nbsp\;</td>\n		</tr>\n		<tr>\n			<td style="width: 255px\;"><span style="font-size:medium"><strong><span style="font-family:maiandra gd\,sans-serif">Double Teen Burger</span></strong></span><span style="font-family:maiandra gd\,sans-serif">&reg\;</span></td>\n			<td style="width: 153px\; vertical-align: top\;">&nbsp\;</td>\n		</tr>\n		<tr>\n			<td style="width: 255px\;"><span style="font-family:maiandra gd\,sans-serif"><span style="font-size:medium">Onion Rings</span></span></td>\n			<td style="width: 153px\; vertical-align: top\;">&nbsp\;</td>\n		</tr>\n		<tr>\n			<td style="width: 255px\;"><span style="font-family:maiandra gd\,sans-serif"><span style="font-size:medium">Regular French Fries</span></span></td>\n			<td style="width: 153px\; vertical-align: top\;">&nbsp\;</td>\n		</tr>\n		<tr>\n			<td style="width: 255px\;"><span style="font-family:maiandra gd\,sans-serif">Regular A&amp\;W Root Beer&reg\;</span></td>\n			<td style="width: 153px\; vertical-align: top\;">&nbsp\;</td>\n		</tr>\n	</tbody>\n</table>\n\n<div>&nbsp\;</div>\n&nbsp\;<br />\n&nbsp\;\n<table border="1" cellpadding="0" cellspacing="0" style="border-collapse:collapse\; border:currentColor">\n	<tbody>\n		<tr>\n			<td style="width: 638px\; height: 53px\; vertical-align: top\;"><span style="font-family:maiandra gd\,sans-serif"><span style="font-size:medium">Additional Requests: </span></span><br />\n			&nbsp\;<br />\n			&nbsp\;<br />\n			&nbsp\;<br />\n			&nbsp\;</td>\n		</tr>\n	</tbody>\n</table>\n<span style="font-family:maiandra gd\,sans-serif"><span style="font-size:medium">*Minimum 10 burgers per order. </span></span><br />\n&nbsp\;<br />\n<strong><u><span style="font-size:18pt"><span style="font-family:maiandra gd\,sans-serif">A&amp\;W Locations</span></span></u></strong><br />\n<span style="font-size:18pt"><span style="font-family:maiandra gd\,sans-serif">18<sup>th</sup> &amp\; Queens - 1847 Queens Ave&nbsp\;&nbsp\;&nbsp\;&nbsp\;&nbsp\;&nbsp\;&nbsp\;&nbsp\;&nbsp\;&nbsp\; 204-727-3793</span></span><br />\n<span style="font-size:18pt"><span style="font-family:maiandra gd\,sans-serif">Trans Canada - 1550 Highland Ave&nbsp\;&nbsp\;&nbsp\;&nbsp\;&nbsp\;&nbsp\;&nbsp\;&nbsp\; 204-729-0811</span></span><br />\n&nbsp\;<br />\n&nbsp\;
LOCATION:Pre-Order at either the Queen Ave location - 1260 -18th Street\, Brandon or Trans Canada location - 1550 Highland Ave Brandon
UID:e.1595.337
SEQUENCE:3
DTSTAMP:20260420T022125Z
URL:https://dev.brandonchamber.ca/events/details/a-w-s-cruisin-to-end-ms-08-24-2015-337
END:VEVENT

END:VCALENDAR
